{"text_format":"3","workbook":"xlsx","n_sheets":1,"sheets":["汇总表 (2)"],"not_rendered":{"external_links":5,"defined_names":2},"read":"whole","date_system":"1900"}

{"sheet":"汇总表 (2)","index":0,"n_rows":73,"n_cols":18,"rows_kept":73,"merged":[[0,0,0,9]]}
["2025年农村危房改造名单"]
["序号","乡镇","村组","姓名","性别","家庭人口","身份证号码","农村低收入群体类型（1、易返贫致贫户；2、农村低保户；3、农村分散供养特困人员；4、因病因灾因意外导致生活出现严重困难家庭；5、农村低保边缘家庭；6、未享受过农村住房保障政策支持且依靠自身力量无法解决住房安全问题的其他脱贫户。）","房屋等级（C级危房、D级危房、无房户）","危改方式(新建或修缮)",null,"身份证比对","五保","低保","低边","监测","其他","重复"]
[1,"高湖镇","旺垅村21组","欧爱云","女",3,"4304241957****5422","低保户","D级","新建",{"$f":"VLOOKUP(#REF!,[5]Sheet0!$F$2:$F$72,1,0)","v":{"$error":"#REF!"}},{"$f":"IF(#REF!=\"\",\"\",(IF(MID(\"10X98765432\",MOD(SUMPRODUCT(MID(#REF!,ROW(INDIRECT(\"1:17\")),1)*2^(18-ROW(INDIRECT(\"1:17\")))),11)+1,1)=MID(#REF!,18,18),\"正确\",\"错误\")))","v":{"$error":"#REF!"}},{"$f":"VLOOKUP(#REF!,[1]特困人员供养对象列表!$B$3:$B$4002,1,0)","v":{"$error":"#REF!"}},{"$f":"VLOOKUP(#REF!,[2]发放明细!$B$3:$B$16220,1,0)","v":{"$error":"#REF!"}},{"$f":"VLOOKUP(#REF!,[2]低边!$B$3:$B$2764,1,0)","v":{"$error":"#REF!"}},{"$f":"VLOOKUP(#REF!,'[3]监测人口（991人2326人）'!$J$4:$AB$2329,19,0)","v":{"$error":"#REF!"}},{"$f":"VLOOKUP(#REF!,'[3]脱贫、监测人口户信息（8369户25151人）'!$J$2:$J$25052,1,0)","v":{"$error":"#REF!"}},{"$f":"VLOOKUP(#REF!,'[4]2011-2024危改名单'!$D$2:$D$10685,1,0)","v":{"$error":"#REF!"}}]
[2,"高湖镇","西村村九组","幸宁姣","女","3","4304241981****5422","低保户","D级","新建 ",{"$f":"VLOOKUP(#REF!,[5]Sheet0!$F$2:$F$72,1,0)","v":{"$error":"#REF!"}},{"$f":"IF(#REF!=\"\",\"\",(IF(MID(\"10X98765432\",MOD(SUMPRODUCT(MID(#REF!,ROW(INDIRECT(\"1:17\")),1)*2^(18-ROW(INDIRECT(\"1:17\")))),11)+1,1)=MID(#REF!,18,18),\"正确\",\"错误\")))","v":{"$error":"#REF!"}},{"$f":"VLOOKUP(#REF!,[1]特困人员供养对象列表!$B$3:$B$4002,1,0)","v":{"$error":"#REF!"}},{"$f":"VLOOKUP(#REF!,[2]发放明细!$B$3:$B$16220,1,0)","v":{"$error":"#REF!"}},{"$f":"VLOOKUP(#REF!,[2]低边!$B$3:$B$2764,1,0)","v":{"$error":"#REF!"}},{"$f":"VLOOKUP(#REF!,'[3]监测人口（991人2326人）'!$J$4:$AB$2329,19,0)","v":{"$error":"#REF!"}},{"$f":"VLOOKUP(#REF!,'[3]脱贫、监测人口户信息（8369户25151人）'!$J$2:$J$25052,1,0)","v":{"$error":"#REF!"}},{"$f":"VLOOKUP(#REF!,'[4]2011-2024危改名单'!$D$2:$D$10685,1,0)","v":{"$error":"#REF!"}}]
[3,"高湖镇","伍湖社区 ","董桃英","女",1,"4304241959****5428","低保户","D","新建",{"$f":"VLOOKUP(#REF!,[5]Sheet0!$F$2:$F$72,1,0)","v":{"$error":"#REF!"}},{"$f":"IF(#REF!=\"\",\"\",(IF(MID(\"10X98765432\",MOD(SUMPRODUCT(MID(#REF!,ROW(INDIRECT(\"1:17\")),1)*2^(18-ROW(INDIRECT(\"1:17\")))),11)+1,1)=MID(#REF!,18,18),\"正确\",\"错误\")))","v":{"$error":"#REF!"}},{"$f":"VLOOKUP(#REF!,[1]特困人员供养对象列表!$B$3:$B$4002,1,0)","v":{"$error":"#REF!"}},{"$f":"VLOOKUP(#REF!,[2]发放明细!$B$3:$B$16220,1,0)","v":{"$error":"#REF!"}},{"$f":"VLOOKUP(#REF!,[2]低边!$B$3:$B$2764,1,0)","v":{"$error":"#REF!"}},{"$f":"VLOOKUP(#REF!,'[3]监测人口（991人2326人）'!$J$4:$AB$2329,19,0)","v":{"$error":"#REF!"}},{"$f":"VLOOKUP(#REF!,'[3]脱贫、监测人口户信息（8369户25151人）'!$J$2:$J$25052,1,0)","v":{"$error":"#REF!"}},{"$f":"VLOOKUP(#REF!,'[4]2011-2024危改名单'!$D$2:$D$10685,1,0)","v":{"$error":"#REF!"}}]
[4,"高湖镇","新兴垅村刘主台组","刘石桂","男","1","4304241953****6016","五保户","无房","新建",{"$f":"VLOOKUP(#REF!,[5]Sheet0!$F$2:$F$72,1,0)","v":{"$error":"#REF!"}},{"$f":"IF(#REF!=\"\",\"\",(IF(MID(\"10X98765432\",MOD(SUMPRODUCT(MID(#REF!,ROW(INDIRECT(\"1:17\")),1)*2^(18-ROW(INDIRECT(\"1:17\")))),11)+1,1)=MID(#REF!,18,18),\"正确\",\"错误\")))","v":{"$error":"#REF!"}},{"$f":"VLOOKUP(#REF!,[1]特困人员供养对象列表!$B$3:$B$4002,1,0)","v":{"$error":"#REF!"}},{"$f":"VLOOKUP(#REF!,[2]发放明细!$B$3:$B$16220,1,0)","v":{"$error":"#REF!"}},{"$f":"VLOOKUP(#REF!,[2]低边!$B$3:$B$2764,1,0)","v":{"$error":"#REF!"}},{"$f":"VLOOKUP(#REF!,'[3]监测人口（991人2326人）'!$J$4:$AB$2329,19,0)","v":{"$error":"#REF!"}},{"$f":"VLOOKUP(#REF!,'[3]脱贫、监测人口户信息（8369户25151人）'!$J$2:$J$25052,1,0)","v":{"$error":"#REF!"}},{"$f":"VLOOKUP(#REF!,'[4]2011-2024危改名单'!$D$2:$D$10685,1,0)","v":{"$error":"#REF!"}}]
[5,"高湖镇","印心村1组","王甫芳","男",5,"4304241973****6019","其他脱贫户","D级","新建",{"$f":"VLOOKUP(#REF!,[5]Sheet0!$F$2:$F$72,1,0)","v":{"$error":"#REF!"}},{"$f":"IF(#REF!=\"\",\"\",(IF(MID(\"10X98765432\",MOD(SUMPRODUCT(MID(#REF!,ROW(INDIRECT(\"1:17\")),1)*2^(18-ROW(INDIRECT(\"1:17\")))),11)+1,1)=MID(#REF!,18,18),\"正确\",\"错误\")))","v":{"$error":"#REF!"}},{"$f":"VLOOKUP(#REF!,[1]特困人员供养对象列表!$B$3:$B$4002,1,0)","v":{"$error":"#REF!"}},{"$f":"VLOOKUP(#REF!,[2]发放明细!$B$3:$B$16220,1,0)","v":{"$error":"#REF!"}},{"$f":"VLOOKUP(#REF!,[2]低边!$B$3:$B$2764,1,0)","v":{"$error":"#REF!"}},{"$f":"VLOOKUP(#REF!,'[3]监测人口（991人2326人）'!$J$4:$AB$2329,19,0)","v":{"$error":"#REF!"}},{"$f":"VLOOKUP(#REF!,'[3]脱贫、监测人口户信息（8369户25151人）'!$J$2:$J$25052,1,0)","v":{"$error":"#REF!"}},{"$f":"VLOOKUP(#REF!,'[4]2011-2024危改名单'!$D$2:$D$10685,1,0)","v":{"$error":"#REF!"}}]
[6,"高湖镇","瑶泉村得花背组","彭义祥","男",2,"4304241970****6019","低保户","D级","新建",{"$f":"VLOOKUP(#REF!,[5]Sheet0!$F$2:$F$72,1,0)","v":{"$error":"#REF!"}},{"$f":"IF(#REF!=\"\",\"\",(IF(MID(\"10X98765432\",MOD(SUMPRODUCT(MID(#REF!,ROW(INDIRECT(\"1:17\")),1)*2^(18-ROW(INDIRECT(\"1:17\")))),11)+1,1)=MID(#REF!,18,18),\"正确\",\"错误\")))","v":{"$error":"#REF!"}},{"$f":"VLOOKUP(#REF!,[1]特困人员供养对象列表!$B$3:$B$4002,1,0)","v":{"$error":"#REF!"}},{"$f":"VLOOKUP(#REF!,[2]发放明细!$B$3:$B$16220,1,0)","v":{"$error":"#REF!"}},{"$f":"VLOOKUP(#REF!,[2]低边!$B$3:$B$2764,1,0)","v":{"$error":"#REF!"}},{"$f":"VLOOKUP(#REF!,'[3]监测人口（991人2326人）'!$J$4:$AB$2329,19,0)","v":{"$error":"#REF!"}},{"$f":"VLOOKUP(#REF!,'[3]脱贫、监测人口户信息（8369户25151人）'!$J$2:$J$25052,1,0)","v":{"$error":"#REF!"}},{"$f":"VLOOKUP(#REF!,'[4]2011-2024危改名单'!$D$2:$D$10685,1,0)","v":{"$error":"#REF!"}}]
[7,"高湖镇","西村桂23组","肖德云","男",4,"4304241970****543X","低保户","C级","修缮",{"$f":"VLOOKUP(#REF!,[5]Sheet0!$F$2:$F$72,1,0)","v":{"$error":"#REF!"}},{"$f":"IF(#REF!=\"\",\"\",(IF(MID(\"10X98765432\",MOD(SUMPRODUCT(MID(#REF!,ROW(INDIRECT(\"1:17\")),1)*2^(18-ROW(INDIRECT(\"1:17\")))),11)+1,1)=MID(#REF!,18,18),\"正确\",\"错误\")))","v":{"$error":"#REF!"}},{"$f":"VLOOKUP(#REF!,[1]特困人员供养对象列表!$B$3:$B$4002,1,0)","v":{"$error":"#REF!"}},{"$f":"VLOOKUP(#REF!,[2]发放明细!$B$3:$B$16220,1,0)","v":{"$error":"#REF!"}},{"$f":"VLOOKUP(#REF!,[2]低边!$B$3:$B$2764,1,0)","v":{"$error":"#REF!"}},{"$f":"VLOOKUP(#REF!,'[3]监测人口（991人2326人）'!$J$4:$AB$2329,19,0)","v":{"$error":"#REF!"}},{"$f":"VLOOKUP(#REF!,'[3]脱贫、监测人口户信息（8369户25151人）'!$J$2:$J$25052,1,0)","v":{"$error":"#REF!"}},{"$f":"VLOOKUP(#REF!,'[4]2011-2024危改名单'!$D$2:$D$10685,1,0)","v":{"$error":"#REF!"}}]
[8,"蓬源镇","横路社区","汤秀云","女",1,"4304241949****6827","五保户","无房","新建",{"$f":"VLOOKUP(#REF!,[5]Sheet0!$F$2:$F$72,1,0)","v":{"$error":"#REF!"}},{"$f":"IF(#REF!=\"\",\"\",(IF(MID(\"10X98765432\",MOD(SUMPRODUCT(MID(#REF!,ROW(INDIRECT(\"1:17\")),1)*2^(18-ROW(INDIRECT(\"1:17\")))),11)+1,1)=MID(#REF!,18,18),\"正确\",\"错误\")))","v":{"$error":"#REF!"}},{"$f":"VLOOKUP(#REF!,[1]特困人员供养对象列表!$B$3:$B$4002,1,0)","v":{"$error":"#REF!"}},{"$f":"VLOOKUP(#REF!,[2]发放明细!$B$3:$B$16220,1,0)","v":{"$error":"#REF!"}},{"$f":"VLOOKUP(#REF!,[2]低边!$B$3:$B$2764,1,0)","v":{"$error":"#REF!"}},{"$f":"VLOOKUP(#REF!,'[3]监测人口（991人2326人）'!$J$4:$AB$2329,19,0)","v":{"$error":"#REF!"}},{"$f":"VLOOKUP(#REF!,'[3]脱贫、监测人口户信息（8369户25151人）'!$J$2:$J$25052,1,0)","v":{"$error":"#REF!"}},{"$f":"VLOOKUP(#REF!,'[4]2011-2024危改名单'!$D$2:$D$10685,1,0)","v":{"$error":"#REF!"}}]
[9,"蓬源镇","潭江村","侯年春","男",3,"4304241949****681X","低保户","D级","新建",{"$f":"VLOOKUP(#REF!,[5]Sheet0!$F$2:$F$72,1,0)","v":{"$error":"#REF!"}},{"$f":"IF(#REF!=\"\",\"\",(IF(MID(\"10X98765432\",MOD(SUMPRODUCT(MID(#REF!,ROW(INDIRECT(\"1:17\")),1)*2^(18-ROW(INDIRECT(\"1:17\")))),11)+1,1)=MID(#REF!,18,18),\"正确\",\"错误\")))","v":{"$error":"#REF!"}},{"$f":"VLOOKUP(#REF!,[1]特困人员供养对象列表!$B$3:$B$4002,1,0)","v":{"$error":"#REF!"}},{"$f":"VLOOKUP(#REF!,[2]发放明细!$B$3:$B$16220,1,0)","v":{"$error":"#REF!"}},{"$f":"VLOOKUP(#REF!,[2]低边!$B$3:$B$2764,1,0)","v":{"$error":"#REF!"}},{"$f":"VLOOKUP(#REF!,'[3]监测人口（991人2326人）'!$J$4:$AB$2329,19,0)","v":{"$error":"#REF!"}},{"$f":"VLOOKUP(#REF!,'[3]脱贫、监测人口户信息（8369户25151人）'!$J$2:$J$25052,1,0)","v":{"$error":"#REF!"}},{"$f":"VLOOKUP(#REF!,'[4]2011-2024危改名单'!$D$2:$D$10685,1,0)","v":{"$error":"#REF!"}}]
[10,"蓬源镇","横路社区","康冬庚","男",1,"4304241963****6819","低保户","C级","修缮",{"$f":"VLOOKUP(#REF!,[5]Sheet0!$F$2:$F$72,1,0)","v":{"$error":"#REF!"}},{"$f":"IF(#REF!=\"\",\"\",(IF(MID(\"10X98765432\",MOD(SUMPRODUCT(MID(#REF!,ROW(INDIRECT(\"1:17\")),1)*2^(18-ROW(INDIRECT(\"1:17\")))),11)+1,1)=MID(#REF!,18,18),\"正确\",\"错误\")))","v":{"$error":"#REF!"}},{"$f":"VLOOKUP(#REF!,[1]特困人员供养对象列表!$B$3:$B$4002,1,0)","v":{"$error":"#REF!"}},{"$f":"VLOOKUP(#REF!,[2]发放明细!$B$3:$B$16220,1,0)","v":{"$error":"#REF!"}},{"$f":"VLOOKUP(#REF!,[2]低边!$B$3:$B$2764,1,0)","v":{"$error":"#REF!"}},{"$f":"VLOOKUP(#REF!,'[3]监测人口（991人2326人）'!$J$4:$AB$2329,19,0)","v":{"$error":"#REF!"}},{"$f":"VLOOKUP(#REF!,'[3]脱贫、监测人口户信息（8369户25151人）'!$J$2:$J$25052,1,0)","v":{"$error":"#REF!"}},{"$f":"VLOOKUP(#REF!,'[4]2011-2024危改名单'!$D$2:$D$10685,1,0)","v":{"$error":"#REF!"}}]
[11,"南湾乡","合江村3组","陈玉元","男",1,"4304241964****5017","五保户","无房","新建",{"$f":"VLOOKUP(#REF!,[5]Sheet0!$F$2:$F$72,1,0)","v":{"$error":"#REF!"}},{"$f":"IF(#REF!=\"\",\"\",(IF(MID(\"10X98765432\",MOD(SUMPRODUCT(MID(#REF!,ROW(INDIRECT(\"1:17\")),1)*2^(18-ROW(INDIRECT(\"1:17\")))),11)+1,1)=MID(#REF!,18,18),\"正确\",\"错误\")))","v":{"$error":"#REF!"}},{"$f":"VLOOKUP(#REF!,[1]特困人员供养对象列表!$B$3:$B$4002,1,0)","v":{"$error":"#REF!"}},{"$f":"VLOOKUP(#REF!,[2]发放明细!$B$3:$B$16220,1,0)","v":{"$error":"#REF!"}},{"$f":"VLOOKUP(#REF!,[2]低边!$B$3:$B$2764,1,0)","v":{"$error":"#REF!"}},{"$f":"VLOOKUP(#REF!,'[3]监测人口（991人2326人）'!$J$4:$AB$2329,19,0)","v":{"$error":"#REF!"}},{"$f":"VLOOKUP(#REF!,'[3]脱贫、监测人口户信息（8369户25151人）'!$J$2:$J$25052,1,0)","v":{"$error":"#REF!"}},{"$f":"VLOOKUP(#REF!,'[4]2011-2024危改名单'!$D$2:$D$10685,1,0)","v":{"$error":"#REF!"}}]
[12,"洣水镇","珍珠村1组","文秋华","男",1,"4304241955****2710","五保户","无房","新建",{"$f":"VLOOKUP(#REF!,[5]Sheet0!$F$2:$F$72,1,0)","v":{"$error":"#REF!"}},{"$f":"IF(#REF!=\"\",\"\",(IF(MID(\"10X98765432\",MOD(SUMPRODUCT(MID(#REF!,ROW(INDIRECT(\"1:17\")),1)*2^(18-ROW(INDIRECT(\"1:17\")))),11)+1,1)=MID(#REF!,18,18),\"正确\",\"错误\")))","v":{"$error":"#REF!"}},{"$f":"VLOOKUP(#REF!,[1]特困人员供养对象列表!$B$3:$B$4002,1,0)","v":{"$error":"#REF!"}},{"$f":"VLOOKUP(#REF!,[2]发放明细!$B$3:$B$16220,1,0)","v":{"$error":"#REF!"}},{"$f":"VLOOKUP(#REF!,[2]低边!$B$3:$B$2764,1,0)","v":{"$error":"#REF!"}},{"$f":"VLOOKUP(#REF!,'[3]监测人口（991人2326人）'!$J$4:$AB$2329,19,0)","v":{"$error":"#REF!"}},{"$f":"VLOOKUP(#REF!,'[3]脱贫、监测人口户信息（8369户25151人）'!$J$2:$J$25052,1,0)","v":{"$error":"#REF!"}},{"$f":"VLOOKUP(#REF!,'[4]2011-2024危改名单'!$D$2:$D$10685,1,0)","v":{"$error":"#REF!"}}]
[13,"洣水镇","石江3组","刘衡珍","男",5,"4304241977****2718","低保户","D级","新建",{"$f":"VLOOKUP(#REF!,[5]Sheet0!$F$2:$F$72,1,0)","v":{"$error":"#REF!"}},{"$f":"IF(#REF!=\"\",\"\",(IF(MID(\"10X98765432\",MOD(SUMPRODUCT(MID(#REF!,ROW(INDIRECT(\"1:17\")),1)*2^(18-ROW(INDIRECT(\"1:17\")))),11)+1,1)=MID(#REF!,18,18),\"正确\",\"错误\")))","v":{"$error":"#REF!"}},{"$f":"VLOOKUP(#REF!,[1]特困人员供养对象列表!$B$3:$B$4002,1,0)","v":{"$error":"#REF!"}},{"$f":"VLOOKUP(#REF!,[2]发放明细!$B$3:$B$16220,1,0)","v":{"$error":"#REF!"}},{"$f":"VLOOKUP(#REF!,[2]低边!$B$3:$B$2764,1,0)","v":{"$error":"#REF!"}},{"$f":"VLOOKUP(#REF!,'[3]监测人口（991人2326人）'!$J$4:$AB$2329,19,0)","v":{"$error":"#REF!"}},{"$f":"VLOOKUP(#REF!,'[3]脱贫、监测人口户信息（8369户25151人）'!$J$2:$J$25052,1,0)","v":{"$error":"#REF!"}},{"$f":"VLOOKUP(#REF!,'[4]2011-2024危改名单'!$D$2:$D$10685,1,0)","v":{"$error":"#REF!"}}]
[14,"洣水镇","南塘村","罗知生","男",1,"4304241963****2714","五保户","无房","新建",{"$f":"VLOOKUP(#REF!,[5]Sheet0!$F$2:$F$72,1,0)","v":{"$error":"#REF!"}},{"$f":"IF(#REF!=\"\",\"\",(IF(MID(\"10X98765432\",MOD(SUMPRODUCT(MID(#REF!,ROW(INDIRECT(\"1:17\")),1)*2^(18-ROW(INDIRECT(\"1:17\")))),11)+1,1)=MID(#REF!,18,18),\"正确\",\"错误\")))","v":{"$error":"#REF!"}},{"$f":"VLOOKUP(#REF!,[1]特困人员供养对象列表!$B$3:$B$4002,1,0)","v":{"$error":"#REF!"}},{"$f":"VLOOKUP(#REF!,[2]发放明细!$B$3:$B$16220,1,0)","v":{"$error":"#REF!"}},{"$f":"VLOOKUP(#REF!,[2]低边!$B$3:$B$2764,1,0)","v":{"$error":"#REF!"}},{"$f":"VLOOKUP(#REF!,'[3]监测人口（991人2326人）'!$J$4:$AB$2329,19,0)","v":{"$error":"#REF!"}},{"$f":"VLOOKUP(#REF!,'[3]脱贫、监测人口户信息（8369户25151人）'!$J$2:$J$25052,1,0)","v":{"$error":"#REF!"}},{"$f":"VLOOKUP(#REF!,'[4]2011-2024危改名单'!$D$2:$D$10685,1,0)","v":{"$error":"#REF!"}}]
[15,"洣水镇","采霞村9组","丁文滔","男",5,"4304241976****2716","低保（女儿）","D级","新建",{"$f":"VLOOKUP(#REF!,[5]Sheet0!$F$2:$F$72,1,0)","v":{"$error":"#REF!"}},{"$f":"IF(#REF!=\"\",\"\",(IF(MID(\"10X98765432\",MOD(SUMPRODUCT(MID(#REF!,ROW(INDIRECT(\"1:17\")),1)*2^(18-ROW(INDIRECT(\"1:17\")))),11)+1,1)=MID(#REF!,18,18),\"正确\",\"错误\")))","v":{"$error":"#REF!"}},{"$f":"VLOOKUP(#REF!,[1]特困人员供养对象列表!$B$3:$B$4002,1,0)","v":{"$error":"#REF!"}},{"$f":"VLOOKUP(#REF!,[2]发放明细!$B$3:$B$16220,1,0)","v":{"$error":"#REF!"}},{"$f":"VLOOKUP(#REF!,[2]低边!$B$3:$B$2764,1,0)","v":{"$error":"#REF!"}},{"$f":"VLOOKUP(#REF!,'[3]监测人口（991人2326人）'!$J$4:$AB$2329,19,0)","v":{"$error":"#REF!"}},{"$f":"VLOOKUP(#REF!,'[3]脱贫、监测人口户信息（8369户25151人）'!$J$2:$J$25052,1,0)","v":{"$error":"#REF!"}},{"$f":"VLOOKUP(#REF!,'[4]2011-2024危改名单'!$D$2:$D$10685,1,0)","v":{"$error":"#REF!"}}]
[16,"洣水","石江村","向金南","男",1,"4304241965****2719","五保户","无房户","新建",{"$f":"VLOOKUP(#REF!,[5]Sheet0!$F$2:$F$72,1,0)","v":{"$error":"#REF!"}},{"$f":"IF(#REF!=\"\",\"\",(IF(MID(\"10X98765432\",MOD(SUMPRODUCT(MID(#REF!,ROW(INDIRECT(\"1:17\")),1)*2^(18-ROW(INDIRECT(\"1:17\")))),11)+1,1)=MID(#REF!,18,18),\"正确\",\"错误\")))","v":{"$error":"#REF!"}},{"$f":"VLOOKUP(#REF!,[1]特困人员供养对象列表!$B$3:$B$4002,1,0)","v":{"$error":"#REF!"}},{"$f":"VLOOKUP(#REF!,[2]发放明细!$B$3:$B$16220,1,0)","v":{"$error":"#REF!"}},{"$f":"VLOOKUP(#REF!,[2]低边!$B$3:$B$2764,1,0)","v":{"$error":"#REF!"}},{"$f":"VLOOKUP(#REF!,'[3]监测人口（991人2326人）'!$J$4:$AB$2329,19,0)","v":{"$error":"#REF!"}},{"$f":"VLOOKUP(#REF!,'[3]脱贫、监测人口户信息（8369户25151人）'!$J$2:$J$25052,1,0)","v":{"$error":"#REF!"}},{"$f":"VLOOKUP(#REF!,'[4]2011-2024危改名单'!$D$2:$D$10685,1,0)","v":{"$error":"#REF!"}}]
[17,"洣水镇","大兴村13组","阳毛生","男",3,"4304241952****2719","其他脱贫户","C级危房","修缮",{"$f":"VLOOKUP(#REF!,[5]Sheet0!$F$2:$F$72,1,0)","v":{"$error":"#REF!"}},{"$f":"IF(#REF!=\"\",\"\",(IF(MID(\"10X98765432\",MOD(SUMPRODUCT(MID(#REF!,ROW(INDIRECT(\"1:17\")),1)*2^(18-ROW(INDIRECT(\"1:17\")))),11)+1,1)=MID(#REF!,18,18),\"正确\",\"错误\")))","v":{"$error":"#REF!"}},{"$f":"VLOOKUP(#REF!,[1]特困人员供养对象列表!$B$3:$B$4002,1,0)","v":{"$error":"#REF!"}},{"$f":"VLOOKUP(#REF!,[2]发放明细!$B$3:$B$16220,1,0)","v":{"$error":"#REF!"}},{"$f":"VLOOKUP(#REF!,[2]低边!$B$3:$B$2764,1,0)","v":{"$error":"#REF!"}},{"$f":"VLOOKUP(#REF!,'[3]监测人口（991人2326人）'!$J$4:$AB$2329,19,0)","v":{"$error":"#REF!"}},{"$f":"VLOOKUP(#REF!,'[3]脱贫、监测人口户信息（8369户25151人）'!$J$2:$J$25052,1,0)","v":{"$error":"#REF!"}},{"$f":"VLOOKUP(#REF!,'[4]2011-2024危改名单'!$D$2:$D$10685,1,0)","v":{"$error":"#REF!"}}]
[18,"洣水镇","鹤祥村15组","曹平香","女",1,"4304241967****8442","五保户","无房","新建",{"$f":"VLOOKUP(#REF!,[5]Sheet0!$F$2:$F$72,1,0)","v":{"$error":"#REF!"}},{"$f":"IF(#REF!=\"\",\"\",(IF(MID(\"10X98765432\",MOD(SUMPRODUCT(MID(#REF!,ROW(INDIRECT(\"1:17\")),1)*2^(18-ROW(INDIRECT(\"1:17\")))),11)+1,1)=MID(#REF!,18,18),\"正确\",\"错误\")))","v":{"$error":"#REF!"}},{"$f":"VLOOKUP(#REF!,[1]特困人员供养对象列表!$B$3:$B$4002,1,0)","v":{"$error":"#REF!"}},{"$f":"VLOOKUP(#REF!,[2]发放明细!$B$3:$B$16220,1,0)","v":{"$error":"#REF!"}},{"$f":"VLOOKUP(#REF!,[2]低边!$B$3:$B$2764,1,0)","v":{"$error":"#REF!"}},{"$f":"VLOOKUP(#REF!,'[3]监测人口（991人2326人）'!$J$4:$AB$2329,19,0)","v":{"$error":"#REF!"}},{"$f":"VLOOKUP(#REF!,'[3]脱贫、监测人口户信息（8369户25151人）'!$J$2:$J$25052,1,0)","v":{"$error":"#REF!"}},{"$f":"VLOOKUP(#REF!,'[4]2011-2024危改名单'!$D$2:$D$10685,1,0)","v":{"$error":"#REF!"}}]
[19,"洣水镇","状元村18组","彭海云","男",1,"4304241964****2717","五保户","无房","新建",{"$f":"VLOOKUP(#REF!,[5]Sheet0!$F$2:$F$72,1,0)","v":{"$error":"#REF!"}},{"$f":"IF(#REF!=\"\",\"\",(IF(MID(\"10X98765432\",MOD(SUMPRODUCT(MID(#REF!,ROW(INDIRECT(\"1:17\")),1)*2^(18-ROW(INDIRECT(\"1:17\")))),11)+1,1)=MID(#REF!,18,18),\"正确\",\"错误\")))","v":{"$error":"#REF!"}},{"$f":"VLOOKUP(#REF!,[1]特困人员供养对象列表!$B$3:$B$4002,1,0)","v":{"$error":"#REF!"}},{"$f":"VLOOKUP(#REF!,[2]发放明细!$B$3:$B$16220,1,0)","v":{"$error":"#REF!"}},{"$f":"VLOOKUP(#REF!,[2]低边!$B$3:$B$2764,1,0)","v":{"$error":"#REF!"}},{"$f":"VLOOKUP(#REF!,'[3]监测人口（991人2326人）'!$J$4:$AB$2329,19,0)","v":{"$error":"#REF!"}},{"$f":"VLOOKUP(#REF!,'[3]脱贫、监测人口户信息（8369户25151人）'!$J$2:$J$25052,1,0)","v":{"$error":"#REF!"}},{"$f":"VLOOKUP(#REF!,'[4]2011-2024危改名单'!$D$2:$D$10685,1,0)","v":{"$error":"#REF!"}}]
[20,"杨桥镇","杨桥村19组","向美林","男",3,"4304241954****6236","低边","D级","新建",{"$f":"VLOOKUP(#REF!,[5]Sheet0!$F$2:$F$72,1,0)","v":{"$error":"#REF!"}},{"$f":"IF(#REF!=\"\",\"\",(IF(MID(\"10X98765432\",MOD(SUMPRODUCT(MID(#REF!,ROW(INDIRECT(\"1:17\")),1)*2^(18-ROW(INDIRECT(\"1:17\")))),11)+1,1)=MID(#REF!,18,18),\"正确\",\"错误\")))","v":{"$error":"#REF!"}},{"$f":"VLOOKUP(#REF!,[1]特困人员供养对象列表!$B$3:$B$4002,1,0)","v":{"$error":"#REF!"}},{"$f":"VLOOKUP(#REF!,[2]发放明细!$B$3:$B$16220,1,0)","v":{"$error":"#REF!"}},{"$f":"VLOOKUP(#REF!,[2]低边!$B$3:$B$2764,1,0)","v":{"$error":"#REF!"}},{"$f":"VLOOKUP(#REF!,'[3]监测人口（991人2326人）'!$J$4:$AB$2329,19,0)","v":{"$error":"#REF!"}},{"$f":"VLOOKUP(#REF!,'[3]脱贫、监测人口户信息（8369户25151人）'!$J$2:$J$25052,1,0)","v":{"$error":"#REF!"}},{"$f":"VLOOKUP(#REF!,'[4]2011-2024危改名单'!$D$2:$D$10685,1,0)","v":{"$error":"#REF!"}}]
[21,"杨桥镇","杨桥村37组","颜松高","男",1,"4304241962****6237","低保户","无房","新建",{"$f":"VLOOKUP(#REF!,[5]Sheet0!$F$2:$F$72,1,0)","v":{"$error":"#REF!"}},{"$f":"IF(#REF!=\"\",\"\",(IF(MID(\"10X98765432\",MOD(SUMPRODUCT(MID(#REF!,ROW(INDIRECT(\"1:17\")),1)*2^(18-ROW(INDIRECT(\"1:17\")))),11)+1,1)=MID(#REF!,18,18),\"正确\",\"错误\")))","v":{"$error":"#REF!"}},{"$f":"VLOOKUP(#REF!,[1]特困人员供养对象列表!$B$3:$B$4002,1,0)","v":{"$error":"#REF!"}},{"$f":"VLOOKUP(#REF!,[2]发放明细!$B$3:$B$16220,1,0)","v":{"$error":"#REF!"}},{"$f":"VLOOKUP(#REF!,[2]低边!$B$3:$B$2764,1,0)","v":{"$error":"#REF!"}},{"$f":"VLOOKUP(#REF!,'[3]监测人口（991人2326人）'!$J$4:$AB$2329,19,0)","v":{"$error":"#REF!"}},{"$f":"VLOOKUP(#REF!,'[3]脱贫、监测人口户信息（8369户25151人）'!$J$2:$J$25052,1,0)","v":{"$error":"#REF!"}},{"$f":"VLOOKUP(#REF!,'[4]2011-2024危改名单'!$D$2:$D$10685,1,0)","v":{"$error":"#REF!"}}]
[22,"杨桥镇","杨桥村32组","董艳香","女",4,"4304241972****5221","低保户","C级","修缮",{"$f":"VLOOKUP(#REF!,[5]Sheet0!$F$2:$F$72,1,0)","v":{"$error":"#REF!"}},{"$f":"IF(#REF!=\"\",\"\",(IF(MID(\"10X98765432\",MOD(SUMPRODUCT(MID(#REF!,ROW(INDIRECT(\"1:17\")),1)*2^(18-ROW(INDIRECT(\"1:17\")))),11)+1,1)=MID(#REF!,18,18),\"正确\",\"错误\")))","v":{"$error":"#REF!"}},{"$f":"VLOOKUP(#REF!,[1]特困人员供养对象列表!$B$3:$B$4002,1,0)","v":{"$error":"#REF!"}},{"$f":"VLOOKUP(#REF!,[2]发放明细!$B$3:$B$16220,1,0)","v":{"$error":"#REF!"}},{"$f":"VLOOKUP(#REF!,[2]低边!$B$3:$B$2764,1,0)","v":{"$error":"#REF!"}},{"$f":"VLOOKUP(#REF!,'[3]监测人口（991人2326人）'!$J$4:$AB$2329,19,0)","v":{"$error":"#REF!"}},{"$f":"VLOOKUP(#REF!,'[3]脱贫、监测人口户信息（8369户25151人）'!$J$2:$J$25052,1,0)","v":{"$error":"#REF!"}},{"$f":"VLOOKUP(#REF!,'[4]2011-2024危改名单'!$D$2:$D$10685,1,0)","v":{"$error":"#REF!"}}]
[23,"杨桥镇","杨桥村37组","颜艳娇","女",2,"4304241988****622X","低保户","无房","新建",{"$f":"VLOOKUP(#REF!,[5]Sheet0!$F$2:$F$72,1,0)","v":{"$error":"#REF!"}},{"$f":"IF(#REF!=\"\",\"\",(IF(MID(\"10X98765432\",MOD(SUMPRODUCT(MID(#REF!,ROW(INDIRECT(\"1:17\")),1)*2^(18-ROW(INDIRECT(\"1:17\")))),11)+1,1)=MID(#REF!,18,18),\"正确\",\"错误\")))","v":{"$error":"#REF!"}},{"$f":"VLOOKUP(#REF!,[1]特困人员供养对象列表!$B$3:$B$4002,1,0)","v":{"$error":"#REF!"}},{"$f":"VLOOKUP(#REF!,[2]发放明细!$B$3:$B$16220,1,0)","v":{"$error":"#REF!"}},{"$f":"VLOOKUP(#REF!,[2]低边!$B$3:$B$2764,1,0)","v":{"$error":"#REF!"}},{"$f":"VLOOKUP(#REF!,'[3]监测人口（991人2326人）'!$J$4:$AB$2329,19,0)","v":{"$error":"#REF!"}},{"$f":"VLOOKUP(#REF!,'[3]脱贫、监测人口户信息（8369户25151人）'!$J$2:$J$25052,1,0)","v":{"$error":"#REF!"}},{"$f":"VLOOKUP(#REF!,'[4]2011-2024危改名单'!$D$2:$D$10685,1,0)","v":{"$error":"#REF!"}}]
[24,"杨桥镇","南冲村5组","刘早连","女",2,"4304241949****7020","其他脱贫户","D级","新建",{"$f":"VLOOKUP(#REF!,[5]Sheet0!$F$2:$F$72,1,0)","v":{"$error":"#REF!"}},{"$f":"IF(#REF!=\"\",\"\",(IF(MID(\"10X98765432\",MOD(SUMPRODUCT(MID(#REF!,ROW(INDIRECT(\"1:17\")),1)*2^(18-ROW(INDIRECT(\"1:17\")))),11)+1,1)=MID(#REF!,18,18),\"正确\",\"错误\")))","v":{"$error":"#REF!"}},{"$f":"VLOOKUP(#REF!,[1]特困人员供养对象列表!$B$3:$B$4002,1,0)","v":{"$error":"#REF!"}},{"$f":"VLOOKUP(#REF!,[2]发放明细!$B$3:$B$16220,1,0)","v":{"$error":"#REF!"}},{"$f":"VLOOKUP(#REF!,[2]低边!$B$3:$B$2764,1,0)","v":{"$error":"#REF!"}},{"$f":"VLOOKUP(#REF!,'[3]监测人口（991人2326人）'!$J$4:$AB$2329,19,0)","v":{"$error":"#REF!"}},{"$f":"VLOOKUP(#REF!,'[3]脱贫、监测人口户信息（8369户25151人）'!$J$2:$J$25052,1,0)","v":{"$error":"#REF!"}},{"$f":"VLOOKUP(#REF!,'[4]2011-2024危改名单'!$D$2:$D$10685,1,0)","v":{"$error":"#REF!"}}]
[25,"杨桥镇","香花村12组","康建国","男",1,"4304241972****7037","五保户","无房","新建"]
[26,"草市镇 ","灵山社区5组","单善云","男",1,"4304241957****4637","五保户","无房","新建",{"$f":"VLOOKUP(#REF!,[5]Sheet0!$F$2:$F$72,1,0)","v":{"$error":"#REF!"}},{"$f":"IF(#REF!=\"\",\"\",(IF(MID(\"10X98765432\",MOD(SUMPRODUCT(MID(#REF!,ROW(INDIRECT(\"1:17\")),1)*2^(18-ROW(INDIRECT(\"1:17\")))),11)+1,1)=MID(#REF!,18,18),\"正确\",\"错误\")))","v":{"$error":"#REF!"}},{"$f":"VLOOKUP(#REF!,[1]特困人员供养对象列表!$B$3:$B$4002,1,0)","v":{"$error":"#REF!"}},{"$f":"VLOOKUP(#REF!,[2]发放明细!$B$3:$B$16220,1,0)","v":{"$error":"#REF!"}},{"$f":"VLOOKUP(#REF!,[2]低边!$B$3:$B$2764,1,0)","v":{"$error":"#REF!"}},{"$f":"VLOOKUP(#REF!,'[3]监测人口（991人2326人）'!$J$4:$AB$2329,19,0)","v":{"$error":"#REF!"}},{"$f":"VLOOKUP(#REF!,'[3]脱贫、监测人口户信息（8369户25151人）'!$J$2:$J$25052,1,0)","v":{"$error":"#REF!"}},{"$f":"VLOOKUP(#REF!,'[4]2011-2024危改名单'!$D$2:$D$10685,1,0)","v":{"$error":"#REF!"}}]
[27,"草市","福塘村6组","单桃安","男",4,"4304241980****4818","低保户","无房","新建",{"$f":"VLOOKUP(#REF!,[5]Sheet0!$F$2:$F$72,1,0)","v":{"$error":"#REF!"}},{"$f":"IF(#REF!=\"\",\"\",(IF(MID(\"10X98765432\",MOD(SUMPRODUCT(MID(#REF!,ROW(INDIRECT(\"1:17\")),1)*2^(18-ROW(INDIRECT(\"1:17\")))),11)+1,1)=MID(#REF!,18,18),\"正确\",\"错误\")))","v":{"$error":"#REF!"}},{"$f":"VLOOKUP(#REF!,[1]特困人员供养对象列表!$B$3:$B$4002,1,0)","v":{"$error":"#REF!"}},{"$f":"VLOOKUP(#REF!,[2]发放明细!$B$3:$B$16220,1,0)","v":{"$error":"#REF!"}},{"$f":"VLOOKUP(#REF!,[2]低边!$B$3:$B$2764,1,0)","v":{"$error":"#REF!"}},{"$f":"VLOOKUP(#REF!,'[3]监测人口（991人2326人）'!$J$4:$AB$2329,19,0)","v":{"$error":"#REF!"}},{"$f":"VLOOKUP(#REF!,'[3]脱贫、监测人口户信息（8369户25151人）'!$J$2:$J$25052,1,0)","v":{"$error":"#REF!"}},{"$f":"VLOOKUP(#REF!,'[4]2011-2024危改名单'!$D$2:$D$10685,1,0)","v":{"$error":"#REF!"}}]
[28,"草市镇 ","石旺村3组","陈立忠","男",1,"4304241978****4818","五保户","无房","新建",{"$f":"VLOOKUP(#REF!,[5]Sheet0!$F$2:$F$72,1,0)","v":{"$error":"#REF!"}},{"$f":"IF(#REF!=\"\",\"\",(IF(MID(\"10X98765432\",MOD(SUMPRODUCT(MID(#REF!,ROW(INDIRECT(\"1:17\")),1)*2^(18-ROW(INDIRECT(\"1:17\")))),11)+1,1)=MID(#REF!,18,18),\"正确\",\"错误\")))","v":{"$error":"#REF!"}},{"$f":"VLOOKUP(#REF!,[1]特困人员供养对象列表!$B$3:$B$4002,1,0)","v":{"$error":"#REF!"}},{"$f":"VLOOKUP(#REF!,[2]发放明细!$B$3:$B$16220,1,0)","v":{"$error":"#REF!"}},{"$f":"VLOOKUP(#REF!,[2]低边!$B$3:$B$2764,1,0)","v":{"$error":"#REF!"}},{"$f":"VLOOKUP(#REF!,'[3]监测人口（991人2326人）'!$J$4:$AB$2329,19,0)","v":{"$error":"#REF!"}},{"$f":"VLOOKUP(#REF!,'[3]脱贫、监测人口户信息（8369户25151人）'!$J$2:$J$25052,1,0)","v":{"$error":"#REF!"}},{"$f":"VLOOKUP(#REF!,'[4]2011-2024危改名单'!$D$2:$D$10685,1,0)","v":{"$error":"#REF!"}}]
[29,"草市镇 ","高田村1组","单周元","男",1,"4304241963****4857","五保户","无房","新建",{"$f":"VLOOKUP(#REF!,[5]Sheet0!$F$2:$F$72,1,0)","v":{"$error":"#REF!"}},{"$f":"IF(#REF!=\"\",\"\",(IF(MID(\"10X98765432\",MOD(SUMPRODUCT(MID(#REF!,ROW(INDIRECT(\"1:17\")),1)*2^(18-ROW(INDIRECT(\"1:17\")))),11)+1,1)=MID(#REF!,18,18),\"正确\",\"错误\")))","v":{"$error":"#REF!"}},{"$f":"VLOOKUP(#REF!,[1]特困人员供养对象列表!$B$3:$B$4002,1,0)","v":{"$error":"#REF!"}},{"$f":"VLOOKUP(#REF!,[2]发放明细!$B$3:$B$16220,1,0)","v":{"$error":"#REF!"}},{"$f":"VLOOKUP(#REF!,[2]低边!$B$3:$B$2764,1,0)","v":{"$error":"#REF!"}},{"$f":"VLOOKUP(#REF!,'[3]监测人口（991人2326人）'!$J$4:$AB$2329,19,0)","v":{"$error":"#REF!"}},{"$f":"VLOOKUP(#REF!,'[3]脱贫、监测人口户信息（8369户25151人）'!$J$2:$J$25052,1,0)","v":{"$error":"#REF!"}},{"$f":"VLOOKUP(#REF!,'[4]2011-2024危改名单'!$D$2:$D$10685,1,0)","v":{"$error":"#REF!"}}]
[30,"草市镇 ","横黎村1组","陈怀良","男",1,"4304241949****4635","五保户","无房","新建",{"$f":"VLOOKUP(#REF!,[5]Sheet0!$F$2:$F$72,1,0)","v":{"$error":"#REF!"}},{"$f":"IF(#REF!=\"\",\"\",(IF(MID(\"10X98765432\",MOD(SUMPRODUCT(MID(#REF!,ROW(INDIRECT(\"1:17\")),1)*2^(18-ROW(INDIRECT(\"1:17\")))),11)+1,1)=MID(#REF!,18,18),\"正确\",\"错误\")))","v":{"$error":"#REF!"}},{"$f":"VLOOKUP(#REF!,[1]特困人员供养对象列表!$B$3:$B$4002,1,0)","v":{"$error":"#REF!"}},{"$f":"VLOOKUP(#REF!,[2]发放明细!$B$3:$B$16220,1,0)","v":{"$error":"#REF!"}},{"$f":"VLOOKUP(#REF!,[2]低边!$B$3:$B$2764,1,0)","v":{"$error":"#REF!"}},{"$f":"VLOOKUP(#REF!,'[3]监测人口（991人2326人）'!$J$4:$AB$2329,19,0)","v":{"$error":"#REF!"}},{"$f":"VLOOKUP(#REF!,'[3]脱贫、监测人口户信息（8369户25151人）'!$J$2:$J$25052,1,0)","v":{"$error":"#REF!"}},{"$f":"VLOOKUP(#REF!,'[4]2011-2024危改名单'!$D$2:$D$10685,1,0)","v":{"$error":"#REF!"}}]
[31,"草市镇 ","大洲村8组","单福春","男",3,"4304241965****4819","低保户","无房","新建",{"$f":"VLOOKUP(#REF!,[5]Sheet0!$F$2:$F$72,1,0)","v":{"$error":"#REF!"}},{"$f":"IF(#REF!=\"\",\"\",(IF(MID(\"10X98765432\",MOD(SUMPRODUCT(MID(#REF!,ROW(INDIRECT(\"1:17\")),1)*2^(18-ROW(INDIRECT(\"1:17\")))),11)+1,1)=MID(#REF!,18,18),\"正确\",\"错误\")))","v":{"$error":"#REF!"}},{"$f":"VLOOKUP(#REF!,[1]特困人员供养对象列表!$B$3:$B$4002,1,0)","v":{"$error":"#REF!"}},{"$f":"VLOOKUP(#REF!,[2]发放明细!$B$3:$B$16220,1,0)","v":{"$error":"#REF!"}},{"$f":"VLOOKUP(#REF!,[2]低边!$B$3:$B$2764,1,0)","v":{"$error":"#REF!"}},{"$f":"VLOOKUP(#REF!,'[3]监测人口（991人2326人）'!$J$4:$AB$2329,19,0)","v":{"$error":"#REF!"}},{"$f":"VLOOKUP(#REF!,'[3]脱贫、监测人口户信息（8369户25151人）'!$J$2:$J$25052,1,0)","v":{"$error":"#REF!"}},{"$f":"VLOOKUP(#REF!,'[4]2011-2024危改名单'!$D$2:$D$10685,1,0)","v":{"$error":"#REF!"}}]
[32,"荣桓镇","杉山村20组","龙用才","男",7,"4304241949****6414","低保户","D级","新建",{"$f":"VLOOKUP(#REF!,[5]Sheet0!$F$2:$F$72,1,0)","v":{"$error":"#REF!"}},{"$f":"IF(#REF!=\"\",\"\",(IF(MID(\"10X98765432\",MOD(SUMPRODUCT(MID(#REF!,ROW(INDIRECT(\"1:17\")),1)*2^(18-ROW(INDIRECT(\"1:17\")))),11)+1,1)=MID(#REF!,18,18),\"正确\",\"错误\")))","v":{"$error":"#REF!"}},{"$f":"VLOOKUP(#REF!,[1]特困人员供养对象列表!$B$3:$B$4002,1,0)","v":{"$error":"#REF!"}},{"$f":"VLOOKUP(#REF!,[2]发放明细!$B$3:$B$16220,1,0)","v":{"$error":"#REF!"}},{"$f":"VLOOKUP(#REF!,[2]低边!$B$3:$B$2764,1,0)","v":{"$error":"#REF!"}},{"$f":"VLOOKUP(#REF!,'[3]监测人口（991人2326人）'!$J$4:$AB$2329,19,0)","v":{"$error":"#REF!"}},{"$f":"VLOOKUP(#REF!,'[3]脱贫、监测人口户信息（8369户25151人）'!$J$2:$J$25052,1,0)","v":{"$error":"#REF!"}},{"$f":"VLOOKUP(#REF!,'[4]2011-2024危改名单'!$D$2:$D$10685,1,0)","v":{"$error":"#REF!"}}]
[33,"荣桓镇","中湖村21组","陈应兰","男",2,"4304241960****6416","低保户","D级","新建",{"$f":"VLOOKUP(#REF!,[5]Sheet0!$F$2:$F$72,1,0)","v":{"$error":"#REF!"}},{"$f":"IF(#REF!=\"\",\"\",(IF(MID(\"10X98765432\",MOD(SUMPRODUCT(MID(#REF!,ROW(INDIRECT(\"1:17\")),1)*2^(18-ROW(INDIRECT(\"1:17\")))),11)+1,1)=MID(#REF!,18,18),\"正确\",\"错误\")))","v":{"$error":"#REF!"}},{"$f":"VLOOKUP(#REF!,[1]特困人员供养对象列表!$B$3:$B$4002,1,0)","v":{"$error":"#REF!"}},{"$f":"VLOOKUP(#REF!,[2]发放明细!$B$3:$B$16220,1,0)","v":{"$error":"#REF!"}},{"$f":"VLOOKUP(#REF!,[2]低边!$B$3:$B$2764,1,0)","v":{"$error":"#REF!"}},{"$f":"VLOOKUP(#REF!,'[3]监测人口（991人2326人）'!$J$4:$AB$2329,19,0)","v":{"$error":"#REF!"}},{"$f":"VLOOKUP(#REF!,'[3]脱贫、监测人口户信息（8369户25151人）'!$J$2:$J$25052,1,0)","v":{"$error":"#REF!"}},{"$f":"VLOOKUP(#REF!,'[4]2011-2024危改名单'!$D$2:$D$10685,1,0)","v":{"$error":"#REF!"}}]
[34,"荣桓镇","泉龙村24组","向大车","男",1,"4304241961****641X","五保户","C级","修缮",{"$f":"VLOOKUP(#REF!,[5]Sheet0!$F$2:$F$72,1,0)","v":{"$error":"#REF!"}},{"$f":"IF(#REF!=\"\",\"\",(IF(MID(\"10X98765432\",MOD(SUMPRODUCT(MID(#REF!,ROW(INDIRECT(\"1:17\")),1)*2^(18-ROW(INDIRECT(\"1:17\")))),11)+1,1)=MID(#REF!,18,18),\"正确\",\"错误\")))","v":{"$error":"#REF!"}},{"$f":"VLOOKUP(#REF!,[1]特困人员供养对象列表!$B$3:$B$4002,1,0)","v":{"$error":"#REF!"}},{"$f":"VLOOKUP(#REF!,[2]发放明细!$B$3:$B$16220,1,0)","v":{"$error":"#REF!"}},{"$f":"VLOOKUP(#REF!,[2]低边!$B$3:$B$2764,1,0)","v":{"$error":"#REF!"}},{"$f":"VLOOKUP(#REF!,'[3]监测人口（991人2326人）'!$J$4:$AB$2329,19,0)","v":{"$error":"#REF!"}},{"$f":"VLOOKUP(#REF!,'[3]脱贫、监测人口户信息（8369户25151人）'!$J$2:$J$25052,1,0)","v":{"$error":"#REF!"}},{"$f":"VLOOKUP(#REF!,'[4]2011-2024危改名单'!$D$2:$D$10685,1,0)","v":{"$error":"#REF!"}}]
[35,"杨林镇","源头村22组","谭永祥","男",5,"4304241991****5631","低保户","D级","新建",{"$f":"VLOOKUP(#REF!,[5]Sheet0!$F$2:$F$72,1,0)","v":{"$error":"#REF!"}},{"$f":"IF(#REF!=\"\",\"\",(IF(MID(\"10X98765432\",MOD(SUMPRODUCT(MID(#REF!,ROW(INDIRECT(\"1:17\")),1)*2^(18-ROW(INDIRECT(\"1:17\")))),11)+1,1)=MID(#REF!,18,18),\"正确\",\"错误\")))","v":{"$error":"#REF!"}},{"$f":"VLOOKUP(#REF!,[1]特困人员供养对象列表!$B$3:$B$4002,1,0)","v":{"$error":"#REF!"}},{"$f":"VLOOKUP(#REF!,[2]发放明细!$B$3:$B$16220,1,0)","v":{"$error":"#REF!"}},{"$f":"VLOOKUP(#REF!,[2]低边!$B$3:$B$2764,1,0)","v":{"$error":"#REF!"}},{"$f":"VLOOKUP(#REF!,'[3]监测人口（991人2326人）'!$J$4:$AB$2329,19,0)","v":{"$error":"#REF!"}},{"$f":"VLOOKUP(#REF!,'[3]脱贫、监测人口户信息（8369户25151人）'!$J$2:$J$25052,1,0)","v":{"$error":"#REF!"}},{"$f":"VLOOKUP(#REF!,'[4]2011-2024危改名单'!$D$2:$D$10685,1,0)","v":{"$error":"#REF!"}}]
[36,"石湾镇","上桥村9组","文彐平","男",1,"4304241963****0617","五保户","无房户","新建",{"$f":"VLOOKUP(#REF!,[5]Sheet0!$F$2:$F$72,1,0)","v":{"$error":"#REF!"}},{"$f":"IF(#REF!=\"\",\"\",(IF(MID(\"10X98765432\",MOD(SUMPRODUCT(MID(#REF!,ROW(INDIRECT(\"1:17\")),1)*2^(18-ROW(INDIRECT(\"1:17\")))),11)+1,1)=MID(#REF!,18,18),\"正确\",\"错误\")))","v":{"$error":"#REF!"}},{"$f":"VLOOKUP(#REF!,[1]特困人员供养对象列表!$B$3:$B$4002,1,0)","v":{"$error":"#REF!"}},{"$f":"VLOOKUP(#REF!,[2]发放明细!$B$3:$B$16220,1,0)","v":{"$error":"#REF!"}},{"$f":"VLOOKUP(#REF!,[2]低边!$B$3:$B$2764,1,0)","v":{"$error":"#REF!"}},{"$f":"VLOOKUP(#REF!,'[3]监测人口（991人2326人）'!$J$4:$AB$2329,19,0)","v":{"$error":"#REF!"}},{"$f":"VLOOKUP(#REF!,'[3]脱贫、监测人口户信息（8369户25151人）'!$J$2:$J$25052,1,0)","v":{"$error":"#REF!"}},{"$f":"VLOOKUP(#REF!,'[4]2011-2024危改名单'!$D$2:$D$10685,1,0)","v":{"$error":"#REF!"}}]
[37,"石湾镇","杨梅村1组","刘宗义","男",1,"4304241968****0652","低保户","C级危房","修缮",{"$f":"VLOOKUP(#REF!,[5]Sheet0!$F$2:$F$72,1,0)","v":{"$error":"#REF!"}},{"$f":"IF(#REF!=\"\",\"\",(IF(MID(\"10X98765432\",MOD(SUMPRODUCT(MID(#REF!,ROW(INDIRECT(\"1:17\")),1)*2^(18-ROW(INDIRECT(\"1:17\")))),11)+1,1)=MID(#REF!,18,18),\"正确\",\"错误\")))","v":{"$error":"#REF!"}},{"$f":"VLOOKUP(#REF!,[1]特困人员供养对象列表!$B$3:$B$4002,1,0)","v":{"$error":"#REF!"}},{"$f":"VLOOKUP(#REF!,[2]发放明细!$B$3:$B$16220,1,0)","v":{"$error":"#REF!"}},{"$f":"VLOOKUP(#REF!,[2]低边!$B$3:$B$2764,1,0)","v":{"$error":"#REF!"}},{"$f":"VLOOKUP(#REF!,'[3]监测人口（991人2326人）'!$J$4:$AB$2329,19,0)","v":{"$error":"#REF!"}},{"$f":"VLOOKUP(#REF!,'[3]脱贫、监测人口户信息（8369户25151人）'!$J$2:$J$25052,1,0)","v":{"$error":"#REF!"}},{"$f":"VLOOKUP(#REF!,'[4]2011-2024危改名单'!$D$2:$D$10685,1,0)","v":{"$error":"#REF!"}}]
[38,"石湾镇","甲枣村7组","李建军","男",2,"4304241965****0656","五保户","C级危房","修缮",{"$f":"VLOOKUP(#REF!,[5]Sheet0!$F$2:$F$72,1,0)","v":{"$error":"#REF!"}},{"$f":"IF(#REF!=\"\",\"\",(IF(MID(\"10X98765432\",MOD(SUMPRODUCT(MID(#REF!,ROW(INDIRECT(\"1:17\")),1)*2^(18-ROW(INDIRECT(\"1:17\")))),11)+1,1)=MID(#REF!,18,18),\"正确\",\"错误\")))","v":{"$error":"#REF!"}},{"$f":"VLOOKUP(#REF!,[1]特困人员供养对象列表!$B$3:$B$4002,1,0)","v":{"$error":"#REF!"}},{"$f":"VLOOKUP(#REF!,[2]发放明细!$B$3:$B$16220,1,0)","v":{"$error":"#REF!"}},{"$f":"VLOOKUP(#REF!,[2]低边!$B$3:$B$2764,1,0)","v":{"$error":"#REF!"}},{"$f":"VLOOKUP(#REF!,'[3]监测人口（991人2326人）'!$J$4:$AB$2329,19,0)","v":{"$error":"#REF!"}},{"$f":"VLOOKUP(#REF!,'[3]脱贫、监测人口户信息（8369户25151人）'!$J$2:$J$25052,1,0)","v":{"$error":"#REF!"}},{"$f":"VLOOKUP(#REF!,'[4]2011-2024危改名单'!$D$2:$D$10685,1,0)","v":{"$error":"#REF!"}}]
[39,"石湾镇","杨梅村9组","张合林","女",5,"4304241943****0626","低保户","C级危房","修缮",{"$f":"VLOOKUP(#REF!,[5]Sheet0!$F$2:$F$72,1,0)","v":{"$error":"#REF!"}},{"$f":"IF(#REF!=\"\",\"\",(IF(MID(\"10X98765432\",MOD(SUMPRODUCT(MID(#REF!,ROW(INDIRECT(\"1:17\")),1)*2^(18-ROW(INDIRECT(\"1:17\")))),11)+1,1)=MID(#REF!,18,18),\"正确\",\"错误\")))","v":{"$error":"#REF!"}},{"$f":"VLOOKUP(#REF!,[1]特困人员供养对象列表!$B$3:$B$4002,1,0)","v":{"$error":"#REF!"}},{"$f":"VLOOKUP(#REF!,[2]发放明细!$B$3:$B$16220,1,0)","v":{"$error":"#REF!"}},{"$f":"VLOOKUP(#REF!,[2]低边!$B$3:$B$2764,1,0)","v":{"$error":"#REF!"}},{"$f":"VLOOKUP(#REF!,'[3]监测人口（991人2326人）'!$J$4:$AB$2329,19,0)","v":{"$error":"#REF!"}},{"$f":"VLOOKUP(#REF!,'[3]脱贫、监测人口户信息（8369户25151人）'!$J$2:$J$25052,1,0)","v":{"$error":"#REF!"}},{"$f":"VLOOKUP(#REF!,'[4]2011-2024危改名单'!$D$2:$D$10685,1,0)","v":{"$error":"#REF!"}}]
[40,"石滩乡","欧塘村23组","周家罗","男",1,"4304241969****3859","五保户","D级","新建",{"$f":"VLOOKUP(#REF!,[5]Sheet0!$F$2:$F$72,1,0)","v":{"$error":"#REF!"}},{"$f":"IF(#REF!=\"\",\"\",(IF(MID(\"10X98765432\",MOD(SUMPRODUCT(MID(#REF!,ROW(INDIRECT(\"1:17\")),1)*2^(18-ROW(INDIRECT(\"1:17\")))),11)+1,1)=MID(#REF!,18,18),\"正确\",\"错误\")))","v":{"$error":"#REF!"}},{"$f":"VLOOKUP(#REF!,[1]特困人员供养对象列表!$B$3:$B$4002,1,0)","v":{"$error":"#REF!"}},{"$f":"VLOOKUP(#REF!,[2]发放明细!$B$3:$B$16220,1,0)","v":{"$error":"#REF!"}},{"$f":"VLOOKUP(#REF!,[2]低边!$B$3:$B$2764,1,0)","v":{"$error":"#REF!"}},{"$f":"VLOOKUP(#REF!,'[3]监测人口（991人2326人）'!$J$4:$AB$2329,19,0)","v":{"$error":"#REF!"}},{"$f":"VLOOKUP(#REF!,'[3]脱贫、监测人口户信息（8369户25151人）'!$J$2:$J$25052,1,0)","v":{"$error":"#REF!"}},{"$f":"VLOOKUP(#REF!,'[4]2011-2024危改名单'!$D$2:$D$10685,1,0)","v":{"$error":"#REF!"}}]
[41,"石滩乡","石金村龟形1组","胡毛徕","男",1,"4304241964****3813","五保户","无房户","新建",{"$f":"VLOOKUP(#REF!,[5]Sheet0!$F$2:$F$72,1,0)","v":{"$error":"#REF!"}},{"$f":"IF(#REF!=\"\",\"\",(IF(MID(\"10X98765432\",MOD(SUMPRODUCT(MID(#REF!,ROW(INDIRECT(\"1:17\")),1)*2^(18-ROW(INDIRECT(\"1:17\")))),11)+1,1)=MID(#REF!,18,18),\"正确\",\"错误\")))","v":{"$error":"#REF!"}},{"$f":"VLOOKUP(#REF!,[1]特困人员供养对象列表!$B$3:$B$4002,1,0)","v":{"$error":"#REF!"}},{"$f":"VLOOKUP(#REF!,[2]发放明细!$B$3:$B$16220,1,0)","v":{"$error":"#REF!"}},{"$f":"VLOOKUP(#REF!,[2]低边!$B$3:$B$2764,1,0)","v":{"$error":"#REF!"}},{"$f":"VLOOKUP(#REF!,'[3]监测人口（991人2326人）'!$J$4:$AB$2329,19,0)","v":{"$error":"#REF!"}},{"$f":"VLOOKUP(#REF!,'[3]脱贫、监测人口户信息（8369户25151人）'!$J$2:$J$25052,1,0)","v":{"$error":"#REF!"}},{"$f":"VLOOKUP(#REF!,'[4]2011-2024危改名单'!$D$2:$D$10685,1,0)","v":{"$error":"#REF!"}}]
[42,"石滩乡","石金村雨仙庙组","陈秋徕","男",1,"4304241963****3811","五保户","无房户","新建",{"$f":"VLOOKUP(#REF!,[5]Sheet0!$F$2:$F$72,1,0)","v":{"$error":"#REF!"}},{"$f":"IF(#REF!=\"\",\"\",(IF(MID(\"10X98765432\",MOD(SUMPRODUCT(MID(#REF!,ROW(INDIRECT(\"1:17\")),1)*2^(18-ROW(INDIRECT(\"1:17\")))),11)+1,1)=MID(#REF!,18,18),\"正确\",\"错误\")))","v":{"$error":"#REF!"}},{"$f":"VLOOKUP(#REF!,[1]特困人员供养对象列表!$B$3:$B$4002,1,0)","v":{"$error":"#REF!"}},{"$f":"VLOOKUP(#REF!,[2]发放明细!$B$3:$B$16220,1,0)","v":{"$error":"#REF!"}},{"$f":"VLOOKUP(#REF!,[2]低边!$B$3:$B$2764,1,0)","v":{"$error":"#REF!"}},{"$f":"VLOOKUP(#REF!,'[3]监测人口（991人2326人）'!$J$4:$AB$2329,19,0)","v":{"$error":"#REF!"}},{"$f":"VLOOKUP(#REF!,'[3]脱贫、监测人口户信息（8369户25151人）'!$J$2:$J$25052,1,0)","v":{"$error":"#REF!"}},{"$f":"VLOOKUP(#REF!,'[4]2011-2024危改名单'!$D$2:$D$10685,1,0)","v":{"$error":"#REF!"}}]
[43,"石滩乡","新白村盐水堰","伍家云","男",1,"4304241963****3816","五保户","D","新建",{"$f":"VLOOKUP(#REF!,[5]Sheet0!$F$2:$F$72,1,0)","v":{"$error":"#REF!"}},{"$f":"IF(#REF!=\"\",\"\",(IF(MID(\"10X98765432\",MOD(SUMPRODUCT(MID(#REF!,ROW(INDIRECT(\"1:17\")),1)*2^(18-ROW(INDIRECT(\"1:17\")))),11)+1,1)=MID(#REF!,18,18),\"正确\",\"错误\")))","v":{"$error":"#REF!"}},{"$f":"VLOOKUP(#REF!,[1]特困人员供养对象列表!$B$3:$B$4002,1,0)","v":{"$error":"#REF!"}},{"$f":"VLOOKUP(#REF!,[2]发放明细!$B$3:$B$16220,1,0)","v":{"$error":"#REF!"}},{"$f":"VLOOKUP(#REF!,[2]低边!$B$3:$B$2764,1,0)","v":{"$error":"#REF!"}},{"$f":"VLOOKUP(#REF!,'[3]监测人口（991人2326人）'!$J$4:$AB$2329,19,0)","v":{"$error":"#REF!"}},{"$f":"VLOOKUP(#REF!,'[3]脱贫、监测人口户信息（8369户25151人）'!$J$2:$J$25052,1,0)","v":{"$error":"#REF!"}},{"$f":"VLOOKUP(#REF!,'[4]2011-2024危改名单'!$D$2:$D$10685,1,0)","v":{"$error":"#REF!"}}]
[44,"石滩乡","活头村3组","许伍徕","男",1,"4304241962****3856","五保户","无房户","新建",{"$f":"VLOOKUP(#REF!,[5]Sheet0!$F$2:$F$72,1,0)","v":{"$error":"#REF!"}},{"$f":"IF(#REF!=\"\",\"\",(IF(MID(\"10X98765432\",MOD(SUMPRODUCT(MID(#REF!,ROW(INDIRECT(\"1:17\")),1)*2^(18-ROW(INDIRECT(\"1:17\")))),11)+1,1)=MID(#REF!,18,18),\"正确\",\"错误\")))","v":{"$error":"#REF!"}},{"$f":"VLOOKUP(#REF!,[1]特困人员供养对象列表!$B$3:$B$4002,1,0)","v":{"$error":"#REF!"}},{"$f":"VLOOKUP(#REF!,[2]发放明细!$B$3:$B$16220,1,0)","v":{"$error":"#REF!"}},{"$f":"VLOOKUP(#REF!,[2]低边!$B$3:$B$2764,1,0)","v":{"$error":"#REF!"}},{"$f":"VLOOKUP(#REF!,'[3]监测人口（991人2326人）'!$J$4:$AB$2329,19,0)","v":{"$error":"#REF!"}},{"$f":"VLOOKUP(#REF!,'[3]脱贫、监测人口户信息（8369户25151人）'!$J$2:$J$25052,1,0)","v":{"$error":"#REF!"}},{"$f":"VLOOKUP(#REF!,'[4]2011-2024危改名单'!$D$2:$D$10685,1,0)","v":{"$error":"#REF!"}}]
[45,"白莲镇 ","罗家湖6组","丁茂芳","男",1,"4304241942****1419","五保户","D级","新建",{"$f":"VLOOKUP(#REF!,[5]Sheet0!$F$2:$F$72,1,0)","v":{"$error":"#REF!"}},{"$f":"IF(#REF!=\"\",\"\",(IF(MID(\"10X98765432\",MOD(SUMPRODUCT(MID(#REF!,ROW(INDIRECT(\"1:17\")),1)*2^(18-ROW(INDIRECT(\"1:17\")))),11)+1,1)=MID(#REF!,18,18),\"正确\",\"错误\")))","v":{"$error":"#REF!"}},{"$f":"VLOOKUP(#REF!,[1]特困人员供养对象列表!$B$3:$B$4002,1,0)","v":{"$error":"#REF!"}},{"$f":"VLOOKUP(#REF!,[2]发放明细!$B$3:$B$16220,1,0)","v":{"$error":"#REF!"}},{"$f":"VLOOKUP(#REF!,[2]低边!$B$3:$B$2764,1,0)","v":{"$error":"#REF!"}},{"$f":"VLOOKUP(#REF!,'[3]监测人口（991人2326人）'!$J$4:$AB$2329,19,0)","v":{"$error":"#REF!"}},{"$f":"VLOOKUP(#REF!,'[3]脱贫、监测人口户信息（8369户25151人）'!$J$2:$J$25052,1,0)","v":{"$error":"#REF!"}},{"$f":"VLOOKUP(#REF!,'[4]2011-2024危改名单'!$D$2:$D$10685,1,0)","v":{"$error":"#REF!"}}]
[46,"甘溪镇","新杨村4组","李迪香","男",1,"4304241964****7411","五保户","C级","修缮",{"$f":"VLOOKUP(#REF!,[5]Sheet0!$F$2:$F$72,1,0)","v":{"$error":"#REF!"}},{"$f":"IF(#REF!=\"\",\"\",(IF(MID(\"10X98765432\",MOD(SUMPRODUCT(MID(#REF!,ROW(INDIRECT(\"1:17\")),1)*2^(18-ROW(INDIRECT(\"1:17\")))),11)+1,1)=MID(#REF!,18,18),\"正确\",\"错误\")))","v":{"$error":"#REF!"}},{"$f":"VLOOKUP(#REF!,[1]特困人员供养对象列表!$B$3:$B$4002,1,0)","v":{"$error":"#REF!"}},{"$f":"VLOOKUP(#REF!,[2]发放明细!$B$3:$B$16220,1,0)","v":{"$error":"#REF!"}},{"$f":"VLOOKUP(#REF!,[2]低边!$B$3:$B$2764,1,0)","v":{"$error":"#REF!"}},{"$f":"VLOOKUP(#REF!,'[3]监测人口（991人2326人）'!$J$4:$AB$2329,19,0)","v":{"$error":"#REF!"}},{"$f":"VLOOKUP(#REF!,'[3]脱贫、监测人口户信息（8369户25151人）'!$J$2:$J$25052,1,0)","v":{"$error":"#REF!"}},{"$f":"VLOOKUP(#REF!,'[4]2011-2024危改名单'!$D$2:$D$10685,1,0)","v":{"$error":"#REF!"}}]
[47,"甘溪镇","新杨村4组","李家林","男",1,"4304241965****7418","五保户","C级","修缮",{"$f":"VLOOKUP(#REF!,[5]Sheet0!$F$2:$F$72,1,0)","v":{"$error":"#REF!"}},{"$f":"IF(#REF!=\"\",\"\",(IF(MID(\"10X98765432\",MOD(SUMPRODUCT(MID(#REF!,ROW(INDIRECT(\"1:17\")),1)*2^(18-ROW(INDIRECT(\"1:17\")))),11)+1,1)=MID(#REF!,18,18),\"正确\",\"错误\")))","v":{"$error":"#REF!"}},{"$f":"VLOOKUP(#REF!,[1]特困人员供养对象列表!$B$3:$B$4002,1,0)","v":{"$error":"#REF!"}},{"$f":"VLOOKUP(#REF!,[2]发放明细!$B$3:$B$16220,1,0)","v":{"$error":"#REF!"}},{"$f":"VLOOKUP(#REF!,[2]低边!$B$3:$B$2764,1,0)","v":{"$error":"#REF!"}},{"$f":"VLOOKUP(#REF!,'[3]监测人口（991人2326人）'!$J$4:$AB$2329,19,0)","v":{"$error":"#REF!"}},{"$f":"VLOOKUP(#REF!,'[3]脱贫、监测人口户信息（8369户25151人）'!$J$2:$J$25052,1,0)","v":{"$error":"#REF!"}},{"$f":"VLOOKUP(#REF!,'[4]2011-2024危改名单'!$D$2:$D$10685,1,0)","v":{"$error":"#REF!"}}]
[48,"甘溪镇","枣园村8组","罗知云","男",2,"4304241968****8016","低保户","无房户","新建",{"$f":"VLOOKUP(#REF!,[5]Sheet0!$F$2:$F$72,1,0)","v":{"$error":"#REF!"}},{"$f":"IF(#REF!=\"\",\"\",(IF(MID(\"10X98765432\",MOD(SUMPRODUCT(MID(#REF!,ROW(INDIRECT(\"1:17\")),1)*2^(18-ROW(INDIRECT(\"1:17\")))),11)+1,1)=MID(#REF!,18,18),\"正确\",\"错误\")))","v":{"$error":"#REF!"}},{"$f":"VLOOKUP(#REF!,[1]特困人员供养对象列表!$B$3:$B$4002,1,0)","v":{"$error":"#REF!"}},{"$f":"VLOOKUP(#REF!,[2]发放明细!$B$3:$B$16220,1,0)","v":{"$error":"#REF!"}},{"$f":"VLOOKUP(#REF!,[2]低边!$B$3:$B$2764,1,0)","v":{"$error":"#REF!"}},{"$f":"VLOOKUP(#REF!,'[3]监测人口（991人2326人）'!$J$4:$AB$2329,19,0)","v":{"$error":"#REF!"}},{"$f":"VLOOKUP(#REF!,'[3]脱贫、监测人口户信息（8369户25151人）'!$J$2:$J$25052,1,0)","v":{"$error":"#REF!"}},{"$f":"VLOOKUP(#REF!,'[4]2011-2024危改名单'!$D$2:$D$10685,1,0)","v":{"$error":"#REF!"}}]
[49,"甘溪镇","金觉峰社区14组","曹秋云","男",3,"4304241967****7410","低保户","D级","新建",{"$f":"VLOOKUP(#REF!,[5]Sheet0!$F$2:$F$72,1,0)","v":{"$error":"#REF!"}},{"$f":"IF(#REF!=\"\",\"\",(IF(MID(\"10X98765432\",MOD(SUMPRODUCT(MID(#REF!,ROW(INDIRECT(\"1:17\")),1)*2^(18-ROW(INDIRECT(\"1:17\")))),11)+1,1)=MID(#REF!,18,18),\"正确\",\"错误\")))","v":{"$error":"#REF!"}},{"$f":"VLOOKUP(#REF!,[1]特困人员供养对象列表!$B$3:$B$4002,1,0)","v":{"$error":"#REF!"}},{"$f":"VLOOKUP(#REF!,[2]发放明细!$B$3:$B$16220,1,0)","v":{"$error":"#REF!"}},{"$f":"VLOOKUP(#REF!,[2]低边!$B$3:$B$2764,1,0)","v":{"$error":"#REF!"}},{"$f":"VLOOKUP(#REF!,'[3]监测人口（991人2326人）'!$J$4:$AB$2329,19,0)","v":{"$error":"#REF!"}},{"$f":"VLOOKUP(#REF!,'[3]脱贫、监测人口户信息（8369户25151人）'!$J$2:$J$25052,1,0)","v":{"$error":"#REF!"}},{"$f":"VLOOKUP(#REF!,'[4]2011-2024危改名单'!$D$2:$D$10685,1,0)","v":{"$error":"#REF!"}}]
[50,"霞流镇","大泥塘村8组","成官生","男",1,"4304241963****2117","五保户","无房","新建",{"$f":"VLOOKUP(#REF!,[5]Sheet0!$F$2:$F$72,1,0)","v":{"$error":"#REF!"}},{"$f":"IF(#REF!=\"\",\"\",(IF(MID(\"10X98765432\",MOD(SUMPRODUCT(MID(#REF!,ROW(INDIRECT(\"1:17\")),1)*2^(18-ROW(INDIRECT(\"1:17\")))),11)+1,1)=MID(#REF!,18,18),\"正确\",\"错误\")))","v":{"$error":"#REF!"}},{"$f":"VLOOKUP(#REF!,[1]特困人员供养对象列表!$B$3:$B$4002,1,0)","v":{"$error":"#REF!"}},{"$f":"VLOOKUP(#REF!,[2]发放明细!$B$3:$B$16220,1,0)","v":{"$error":"#REF!"}},{"$f":"VLOOKUP(#REF!,[2]低边!$B$3:$B$2764,1,0)","v":{"$error":"#REF!"}},{"$f":"VLOOKUP(#REF!,'[3]监测人口（991人2326人）'!$J$4:$AB$2329,19,0)","v":{"$error":"#REF!"}},{"$f":"VLOOKUP(#REF!,'[3]脱贫、监测人口户信息（8369户25151人）'!$J$2:$J$25052,1,0)","v":{"$error":"#REF!"}},{"$f":"VLOOKUP(#REF!,'[4]2011-2024危改名单'!$D$2:$D$10685,1,0)","v":{"$error":"#REF!"}}]
[51,"霞流镇","洣河村11组","李显冬","男",4,"4304241971****2110","低保户","C级","修缮",{"$f":"VLOOKUP(#REF!,[5]Sheet0!$F$2:$F$72,1,0)","v":{"$error":"#REF!"}},{"$f":"IF(#REF!=\"\",\"\",(IF(MID(\"10X98765432\",MOD(SUMPRODUCT(MID(#REF!,ROW(INDIRECT(\"1:17\")),1)*2^(18-ROW(INDIRECT(\"1:17\")))),11)+1,1)=MID(#REF!,18,18),\"正确\",\"错误\")))","v":{"$error":"#REF!"}},{"$f":"VLOOKUP(#REF!,[1]特困人员供养对象列表!$B$3:$B$4002,1,0)","v":{"$error":"#REF!"}},{"$f":"VLOOKUP(#REF!,[2]发放明细!$B$3:$B$16220,1,0)","v":{"$error":"#REF!"}},{"$f":"VLOOKUP(#REF!,[2]低边!$B$3:$B$2764,1,0)","v":{"$error":"#REF!"}},{"$f":"VLOOKUP(#REF!,'[3]监测人口（991人2326人）'!$J$4:$AB$2329,19,0)","v":{"$error":"#REF!"}},{"$f":"VLOOKUP(#REF!,'[3]脱贫、监测人口户信息（8369户25151人）'!$J$2:$J$25052,1,0)","v":{"$error":"#REF!"}},{"$f":"VLOOKUP(#REF!,'[4]2011-2024危改名单'!$D$2:$D$10685,1,0)","v":{"$error":"#REF!"}}]
[52,"霞流镇","新拜朝村","赵春辉","男",1,"4304241965****2312","五保户","无房","新建",{"$f":"VLOOKUP(#REF!,[5]Sheet0!$F$2:$F$72,1,0)","v":{"$error":"#REF!"}},{"$f":"IF(#REF!=\"\",\"\",(IF(MID(\"10X98765432\",MOD(SUMPRODUCT(MID(#REF!,ROW(INDIRECT(\"1:17\")),1)*2^(18-ROW(INDIRECT(\"1:17\")))),11)+1,1)=MID(#REF!,18,18),\"正确\",\"错误\")))","v":{"$error":"#REF!"}},{"$f":"VLOOKUP(#REF!,[1]特困人员供养对象列表!$B$3:$B$4002,1,0)","v":{"$error":"#REF!"}},{"$f":"VLOOKUP(#REF!,[2]发放明细!$B$3:$B$16220,1,0)","v":{"$error":"#REF!"}},{"$f":"VLOOKUP(#REF!,[2]低边!$B$3:$B$2764,1,0)","v":{"$error":"#REF!"}},{"$f":"VLOOKUP(#REF!,'[3]监测人口（991人2326人）'!$J$4:$AB$2329,19,0)","v":{"$error":"#REF!"}},{"$f":"VLOOKUP(#REF!,'[3]脱贫、监测人口户信息（8369户25151人）'!$J$2:$J$25052,1,0)","v":{"$error":"#REF!"}},{"$f":"VLOOKUP(#REF!,'[4]2011-2024危改名单'!$D$2:$D$10685,1,0)","v":{"$error":"#REF!"}}]
[53,"霞流镇","李花村8组","阳林生","男",2,"4304241966****2339","低保户","C级","修缮",{"$f":"VLOOKUP(#REF!,[5]Sheet0!$F$2:$F$72,1,0)","v":{"$error":"#REF!"}},{"$f":"IF(#REF!=\"\",\"\",(IF(MID(\"10X98765432\",MOD(SUMPRODUCT(MID(#REF!,ROW(INDIRECT(\"1:17\")),1)*2^(18-ROW(INDIRECT(\"1:17\")))),11)+1,1)=MID(#REF!,18,18),\"正确\",\"错误\")))","v":{"$error":"#REF!"}},{"$f":"VLOOKUP(#REF!,[1]特困人员供养对象列表!$B$3:$B$4002,1,0)","v":{"$error":"#REF!"}},{"$f":"VLOOKUP(#REF!,[2]发放明细!$B$3:$B$16220,1,0)","v":{"$error":"#REF!"}},{"$f":"VLOOKUP(#REF!,[2]低边!$B$3:$B$2764,1,0)","v":{"$error":"#REF!"}},{"$f":"VLOOKUP(#REF!,'[3]监测人口（991人2326人）'!$J$4:$AB$2329,19,0)","v":{"$error":"#REF!"}},{"$f":"VLOOKUP(#REF!,'[3]脱贫、监测人口户信息（8369户25151人）'!$J$2:$J$25052,1,0)","v":{"$error":"#REF!"}},{"$f":"VLOOKUP(#REF!,'[4]2011-2024危改名单'!$D$2:$D$10685,1,0)","v":{"$error":"#REF!"}}]
[54,"霞流镇","大村湾村","胡庆华","男",1,"4304241965****2137","五保户","无房","新建",{"$f":"VLOOKUP(#REF!,[5]Sheet0!$F$2:$F$72,1,0)","v":{"$error":"#REF!"}},{"$f":"IF(#REF!=\"\",\"\",(IF(MID(\"10X98765432\",MOD(SUMPRODUCT(MID(#REF!,ROW(INDIRECT(\"1:17\")),1)*2^(18-ROW(INDIRECT(\"1:17\")))),11)+1,1)=MID(#REF!,18,18),\"正确\",\"错误\")))","v":{"$error":"#REF!"}},{"$f":"VLOOKUP(#REF!,[1]特困人员供养对象列表!$B$3:$B$4002,1,0)","v":{"$error":"#REF!"}},{"$f":"VLOOKUP(#REF!,[2]发放明细!$B$3:$B$16220,1,0)","v":{"$error":"#REF!"}},{"$f":"VLOOKUP(#REF!,[2]低边!$B$3:$B$2764,1,0)","v":{"$error":"#REF!"}},{"$f":"VLOOKUP(#REF!,'[3]监测人口（991人2326人）'!$J$4:$AB$2329,19,0)","v":{"$error":"#REF!"}},{"$f":"VLOOKUP(#REF!,'[3]脱贫、监测人口户信息（8369户25151人）'!$J$2:$J$25052,1,0)","v":{"$error":"#REF!"}},{"$f":"VLOOKUP(#REF!,'[4]2011-2024危改名单'!$D$2:$D$10685,1,0)","v":{"$error":"#REF!"}}]
[55,"霞流镇","李花村","许柏牛","男",1,"4304241949****2314","五保户","C级","修缮",{"$f":"VLOOKUP(#REF!,[5]Sheet0!$F$2:$F$72,1,0)","v":{"$error":"#REF!"}},{"$f":"IF(#REF!=\"\",\"\",(IF(MID(\"10X98765432\",MOD(SUMPRODUCT(MID(#REF!,ROW(INDIRECT(\"1:17\")),1)*2^(18-ROW(INDIRECT(\"1:17\")))),11)+1,1)=MID(#REF!,18,18),\"正确\",\"错误\")))","v":{"$error":"#REF!"}},{"$f":"VLOOKUP(#REF!,[1]特困人员供养对象列表!$B$3:$B$4002,1,0)","v":{"$error":"#REF!"}},{"$f":"VLOOKUP(#REF!,[2]发放明细!$B$3:$B$16220,1,0)","v":{"$error":"#REF!"}},{"$f":"VLOOKUP(#REF!,[2]低边!$B$3:$B$2764,1,0)","v":{"$error":"#REF!"}},{"$f":"VLOOKUP(#REF!,'[3]监测人口（991人2326人）'!$J$4:$AB$2329,19,0)","v":{"$error":"#REF!"}},{"$f":"VLOOKUP(#REF!,'[3]脱贫、监测人口户信息（8369户25151人）'!$J$2:$J$25052,1,0)","v":{"$error":"#REF!"}},{"$f":"VLOOKUP(#REF!,'[4]2011-2024危改名单'!$D$2:$D$10685,1,0)","v":{"$error":"#REF!"}}]
[56,"大浦","浦泉村10组","易国湘","男",1,"4304241957****3110","五保户","C","修缮",{"$f":"VLOOKUP(#REF!,[5]Sheet0!$F$2:$F$72,1,0)","v":{"$error":"#REF!"}},{"$f":"IF(#REF!=\"\",\"\",(IF(MID(\"10X98765432\",MOD(SUMPRODUCT(MID(#REF!,ROW(INDIRECT(\"1:17\")),1)*2^(18-ROW(INDIRECT(\"1:17\")))),11)+1,1)=MID(#REF!,18,18),\"正确\",\"错误\")))","v":{"$error":"#REF!"}},{"$f":"VLOOKUP(#REF!,[1]特困人员供养对象列表!$B$3:$B$4002,1,0)","v":{"$error":"#REF!"}},{"$f":"VLOOKUP(#REF!,[2]发放明细!$B$3:$B$16220,1,0)","v":{"$error":"#REF!"}},{"$f":"VLOOKUP(#REF!,[2]低边!$B$3:$B$2764,1,0)","v":{"$error":"#REF!"}},{"$f":"VLOOKUP(#REF!,'[3]监测人口（991人2326人）'!$J$4:$AB$2329,19,0)","v":{"$error":"#REF!"}},{"$f":"VLOOKUP(#REF!,'[3]脱贫、监测人口户信息（8369户25151人）'!$J$2:$J$25052,1,0)","v":{"$error":"#REF!"}},{"$f":"VLOOKUP(#REF!,'[4]2011-2024危改名单'!$D$2:$D$10685,1,0)","v":{"$error":"#REF!"}}]
[57,"大浦","青鸦村燕窝形组","邓书华","女",1,"4304241968****3188","五保户","无房","新建",{"$f":"VLOOKUP(#REF!,[5]Sheet0!$F$2:$F$72,1,0)","v":{"$error":"#REF!"}},{"$f":"IF(#REF!=\"\",\"\",(IF(MID(\"10X98765432\",MOD(SUMPRODUCT(MID(#REF!,ROW(INDIRECT(\"1:17\")),1)*2^(18-ROW(INDIRECT(\"1:17\")))),11)+1,1)=MID(#REF!,18,18),\"正确\",\"错误\")))","v":{"$error":"#REF!"}},{"$f":"VLOOKUP(#REF!,[1]特困人员供养对象列表!$B$3:$B$4002,1,0)","v":{"$error":"#REF!"}},{"$f":"VLOOKUP(#REF!,[2]发放明细!$B$3:$B$16220,1,0)","v":{"$error":"#REF!"}},{"$f":"VLOOKUP(#REF!,[2]低边!$B$3:$B$2764,1,0)","v":{"$error":"#REF!"}},{"$f":"VLOOKUP(#REF!,'[3]监测人口（991人2326人）'!$J$4:$AB$2329,19,0)","v":{"$error":"#REF!"}},{"$f":"VLOOKUP(#REF!,'[3]脱贫、监测人口户信息（8369户25151人）'!$J$2:$J$25052,1,0)","v":{"$error":"#REF!"}},{"$f":"VLOOKUP(#REF!,'[4]2011-2024危改名单'!$D$2:$D$10685,1,0)","v":{"$error":"#REF!"}}]
[58,"大浦","岭茶村17组","陈锡青","男",1,"4304241962****3137","五保户","无房","新建",{"$f":"VLOOKUP(#REF!,[5]Sheet0!$F$2:$F$72,1,0)","v":{"$error":"#REF!"}},{"$f":"IF(#REF!=\"\",\"\",(IF(MID(\"10X98765432\",MOD(SUMPRODUCT(MID(#REF!,ROW(INDIRECT(\"1:17\")),1)*2^(18-ROW(INDIRECT(\"1:17\")))),11)+1,1)=MID(#REF!,18,18),\"正确\",\"错误\")))","v":{"$error":"#REF!"}},{"$f":"VLOOKUP(#REF!,[1]特困人员供养对象列表!$B$3:$B$4002,1,0)","v":{"$error":"#REF!"}},{"$f":"VLOOKUP(#REF!,[2]发放明细!$B$3:$B$16220,1,0)","v":{"$error":"#REF!"}},{"$f":"VLOOKUP(#REF!,[2]低边!$B$3:$B$2764,1,0)","v":{"$error":"#REF!"}},{"$f":"VLOOKUP(#REF!,'[3]监测人口（991人2326人）'!$J$4:$AB$2329,19,0)","v":{"$error":"#REF!"}},{"$f":"VLOOKUP(#REF!,'[3]脱贫、监测人口户信息（8369户25151人）'!$J$2:$J$25052,1,0)","v":{"$error":"#REF!"}},{"$f":"VLOOKUP(#REF!,'[4]2011-2024危改名单'!$D$2:$D$10685,1,0)","v":{"$error":"#REF!"}}]
[59,"大浦","托源村茶4组","王寿生","男",3,"4304241957****3111","低保","D","新建",{"$f":"VLOOKUP(#REF!,[5]Sheet0!$F$2:$F$72,1,0)","v":{"$error":"#REF!"}},{"$f":"IF(#REF!=\"\",\"\",(IF(MID(\"10X98765432\",MOD(SUMPRODUCT(MID(#REF!,ROW(INDIRECT(\"1:17\")),1)*2^(18-ROW(INDIRECT(\"1:17\")))),11)+1,1)=MID(#REF!,18,18),\"正确\",\"错误\")))","v":{"$error":"#REF!"}},{"$f":"VLOOKUP(#REF!,[1]特困人员供养对象列表!$B$3:$B$4002,1,0)","v":{"$error":"#REF!"}},{"$f":"VLOOKUP(#REF!,[2]发放明细!$B$3:$B$16220,1,0)","v":{"$error":"#REF!"}},{"$f":"VLOOKUP(#REF!,[2]低边!$B$3:$B$2764,1,0)","v":{"$error":"#REF!"}},{"$f":"VLOOKUP(#REF!,'[3]监测人口（991人2326人）'!$J$4:$AB$2329,19,0)","v":{"$error":"#REF!"}},{"$f":"VLOOKUP(#REF!,'[3]脱贫、监测人口户信息（8369户25151人）'!$J$2:$J$25052,1,0)","v":{"$error":"#REF!"}},{"$f":"VLOOKUP(#REF!,'[4]2011-2024危改名单'!$D$2:$D$10685,1,0)","v":{"$error":"#REF!"}}]
[60,"大浦","狮塘村16组","王娥英","女",1,"4304241950****3125","低保","C","修缮",{"$f":"VLOOKUP(#REF!,[5]Sheet0!$F$2:$F$72,1,0)","v":{"$error":"#REF!"}},{"$f":"IF(#REF!=\"\",\"\",(IF(MID(\"10X98765432\",MOD(SUMPRODUCT(MID(#REF!,ROW(INDIRECT(\"1:17\")),1)*2^(18-ROW(INDIRECT(\"1:17\")))),11)+1,1)=MID(#REF!,18,18),\"正确\",\"错误\")))","v":{"$error":"#REF!"}},{"$f":"VLOOKUP(#REF!,[1]特困人员供养对象列表!$B$3:$B$4002,1,0)","v":{"$error":"#REF!"}},{"$f":"VLOOKUP(#REF!,[2]发放明细!$B$3:$B$16220,1,0)","v":{"$error":"#REF!"}},{"$f":"VLOOKUP(#REF!,[2]低边!$B$3:$B$2764,1,0)","v":{"$error":"#REF!"}},{"$f":"VLOOKUP(#REF!,'[3]监测人口（991人2326人）'!$J$4:$AB$2329,19,0)","v":{"$error":"#REF!"}},{"$f":"VLOOKUP(#REF!,'[3]脱贫、监测人口户信息（8369户25151人）'!$J$2:$J$25052,1,0)","v":{"$error":"#REF!"}},{"$f":"VLOOKUP(#REF!,'[4]2011-2024危改名单'!$D$2:$D$10685,1,0)","v":{"$error":"#REF!"}}]
[61,"新塘镇","新义村5组","夏仲生","男",5,"4304241946****1810","低保户","C级","修缮",{"$f":"VLOOKUP(#REF!,[5]Sheet0!$F$2:$F$72,1,0)","v":{"$error":"#REF!"}},{"$f":"IF(#REF!=\"\",\"\",(IF(MID(\"10X98765432\",MOD(SUMPRODUCT(MID(#REF!,ROW(INDIRECT(\"1:17\")),1)*2^(18-ROW(INDIRECT(\"1:17\")))),11)+1,1)=MID(#REF!,18,18),\"正确\",\"错误\")))","v":{"$error":"#REF!"}},{"$f":"VLOOKUP(#REF!,[1]特困人员供养对象列表!$B$3:$B$4002,1,0)","v":{"$error":"#REF!"}},{"$f":"VLOOKUP(#REF!,[2]发放明细!$B$3:$B$16220,1,0)","v":{"$error":"#REF!"}},{"$f":"VLOOKUP(#REF!,[2]低边!$B$3:$B$2764,1,0)","v":{"$error":"#REF!"}},{"$f":"VLOOKUP(#REF!,'[3]监测人口（991人2326人）'!$J$4:$AB$2329,19,0)","v":{"$error":"#REF!"}},{"$f":"VLOOKUP(#REF!,'[3]脱贫、监测人口户信息（8369户25151人）'!$J$2:$J$25052,1,0)","v":{"$error":"#REF!"}},{"$f":"VLOOKUP(#REF!,'[4]2011-2024危改名单'!$D$2:$D$10685,1,0)","v":{"$error":"#REF!"}}]
[62,"新塘镇","兴发村2组","张春先","男",2,"4304241953****3030","低保户","C级","修缮",{"$f":"VLOOKUP(#REF!,[5]Sheet0!$F$2:$F$72,1,0)","v":{"$error":"#REF!"}},{"$f":"IF(#REF!=\"\",\"\",(IF(MID(\"10X98765432\",MOD(SUMPRODUCT(MID(#REF!,ROW(INDIRECT(\"1:17\")),1)*2^(18-ROW(INDIRECT(\"1:17\")))),11)+1,1)=MID(#REF!,18,18),\"正确\",\"错误\")))","v":{"$error":"#REF!"}},{"$f":"VLOOKUP(#REF!,[1]特困人员供养对象列表!$B$3:$B$4002,1,0)","v":{"$error":"#REF!"}},{"$f":"VLOOKUP(#REF!,[2]发放明细!$B$3:$B$16220,1,0)","v":{"$error":"#REF!"}},{"$f":"VLOOKUP(#REF!,[2]低边!$B$3:$B$2764,1,0)","v":{"$error":"#REF!"}},{"$f":"VLOOKUP(#REF!,'[3]监测人口（991人2326人）'!$J$4:$AB$2329,19,0)","v":{"$error":"#REF!"}},{"$f":"VLOOKUP(#REF!,'[3]脱贫、监测人口户信息（8369户25151人）'!$J$2:$J$25052,1,0)","v":{"$error":"#REF!"}},{"$f":"VLOOKUP(#REF!,'[4]2011-2024危改名单'!$D$2:$D$10685,1,0)","v":{"$error":"#REF!"}}]
[63,"新塘镇","谭泊村","陶冬成","男",2,"4304241946****2912","低保户","C级","修缮",{"$f":"VLOOKUP(#REF!,[5]Sheet0!$F$2:$F$72,1,0)","v":{"$error":"#REF!"}},{"$f":"IF(#REF!=\"\",\"\",(IF(MID(\"10X98765432\",MOD(SUMPRODUCT(MID(#REF!,ROW(INDIRECT(\"1:17\")),1)*2^(18-ROW(INDIRECT(\"1:17\")))),11)+1,1)=MID(#REF!,18,18),\"正确\",\"错误\")))","v":{"$error":"#REF!"}},{"$f":"VLOOKUP(#REF!,[1]特困人员供养对象列表!$B$3:$B$4002,1,0)","v":{"$error":"#REF!"}},{"$f":"VLOOKUP(#REF!,[2]发放明细!$B$3:$B$16220,1,0)","v":{"$error":"#REF!"}},{"$f":"VLOOKUP(#REF!,[2]低边!$B$3:$B$2764,1,0)","v":{"$error":"#REF!"}},{"$f":"VLOOKUP(#REF!,'[3]监测人口（991人2326人）'!$J$4:$AB$2329,19,0)","v":{"$error":"#REF!"}},{"$f":"VLOOKUP(#REF!,'[3]脱贫、监测人口户信息（8369户25151人）'!$J$2:$J$25052,1,0)","v":{"$error":"#REF!"}},{"$f":"VLOOKUP(#REF!,'[4]2011-2024危改名单'!$D$2:$D$10685,1,0)","v":{"$error":"#REF!"}}]
[64,"吴集镇 ","鸡公岩村5组","稂孟林","男",1,"4304241958****7210","五保户","无房","新建",{"$f":"VLOOKUP(#REF!,[5]Sheet0!$F$2:$F$72,1,0)","v":{"$error":"#REF!"}},{"$f":"IF(#REF!=\"\",\"\",(IF(MID(\"10X98765432\",MOD(SUMPRODUCT(MID(#REF!,ROW(INDIRECT(\"1:17\")),1)*2^(18-ROW(INDIRECT(\"1:17\")))),11)+1,1)=MID(#REF!,18,18),\"正确\",\"错误\")))","v":{"$error":"#REF!"}},{"$f":"VLOOKUP(#REF!,[1]特困人员供养对象列表!$B$3:$B$4002,1,0)","v":{"$error":"#REF!"}},{"$f":"VLOOKUP(#REF!,[2]发放明细!$B$3:$B$16220,1,0)","v":{"$error":"#REF!"}},{"$f":"VLOOKUP(#REF!,[2]低边!$B$3:$B$2764,1,0)","v":{"$error":"#REF!"}},{"$f":"VLOOKUP(#REF!,'[3]监测人口（991人2326人）'!$J$4:$AB$2329,19,0)","v":{"$error":"#REF!"}},{"$f":"VLOOKUP(#REF!,'[3]脱贫、监测人口户信息（8369户25151人）'!$J$2:$J$25052,1,0)","v":{"$error":"#REF!"}},{"$f":"VLOOKUP(#REF!,'[4]2011-2024危改名单'!$D$2:$D$10685,1,0)","v":{"$error":"#REF!"}}]
[65,"吴集镇 ","双园村17组","阳正忠","男",1,"4304241965****7214","五保户","无房","新建",{"$f":"VLOOKUP(#REF!,[5]Sheet0!$F$2:$F$72,1,0)","v":{"$error":"#REF!"}},{"$f":"IF(#REF!=\"\",\"\",(IF(MID(\"10X98765432\",MOD(SUMPRODUCT(MID(#REF!,ROW(INDIRECT(\"1:17\")),1)*2^(18-ROW(INDIRECT(\"1:17\")))),11)+1,1)=MID(#REF!,18,18),\"正确\",\"错误\")))","v":{"$error":"#REF!"}},{"$f":"VLOOKUP(#REF!,[1]特困人员供养对象列表!$B$3:$B$4002,1,0)","v":{"$error":"#REF!"}},{"$f":"VLOOKUP(#REF!,[2]发放明细!$B$3:$B$16220,1,0)","v":{"$error":"#REF!"}},{"$f":"VLOOKUP(#REF!,[2]低边!$B$3:$B$2764,1,0)","v":{"$error":"#REF!"}},{"$f":"VLOOKUP(#REF!,'[3]监测人口（991人2326人）'!$J$4:$AB$2329,19,0)","v":{"$error":"#REF!"}},{"$f":"VLOOKUP(#REF!,'[3]脱贫、监测人口户信息（8369户25151人）'!$J$2:$J$25052,1,0)","v":{"$error":"#REF!"}},{"$f":"VLOOKUP(#REF!,'[4]2011-2024危改名单'!$D$2:$D$10685,1,0)","v":{"$error":"#REF!"}}]
[66,"吴集镇 ","德圳村28组","陈亚华","男",1,"4304241964****3613","五保户","无房","新建",{"$f":"VLOOKUP(#REF!,[5]Sheet0!$F$2:$F$72,1,0)","v":{"$error":"#REF!"}},{"$f":"IF(#REF!=\"\",\"\",(IF(MID(\"10X98765432\",MOD(SUMPRODUCT(MID(#REF!,ROW(INDIRECT(\"1:17\")),1)*2^(18-ROW(INDIRECT(\"1:17\")))),11)+1,1)=MID(#REF!,18,18),\"正确\",\"错误\")))","v":{"$error":"#REF!"}},{"$f":"VLOOKUP(#REF!,[1]特困人员供养对象列表!$B$3:$B$4002,1,0)","v":{"$error":"#REF!"}},{"$f":"VLOOKUP(#REF!,[2]发放明细!$B$3:$B$16220,1,0)","v":{"$error":"#REF!"}},{"$f":"VLOOKUP(#REF!,[2]低边!$B$3:$B$2764,1,0)","v":{"$error":"#REF!"}},{"$f":"VLOOKUP(#REF!,'[3]监测人口（991人2326人）'!$J$4:$AB$2329,19,0)","v":{"$error":"#REF!"}},{"$f":"VLOOKUP(#REF!,'[3]脱贫、监测人口户信息（8369户25151人）'!$J$2:$J$25052,1,0)","v":{"$error":"#REF!"}},{"$f":"VLOOKUP(#REF!,'[4]2011-2024危改名单'!$D$2:$D$10685,1,0)","v":{"$error":"#REF!"}}]
[67,"吴集镇 ","伴岭村","杨付徕","男",1,"4304241963****8617","五保户","C级","修缮",{"$f":"VLOOKUP(#REF!,[5]Sheet0!$F$2:$F$72,1,0)","v":{"$error":"#REF!"}},{"$f":"IF(#REF!=\"\",\"\",(IF(MID(\"10X98765432\",MOD(SUMPRODUCT(MID(#REF!,ROW(INDIRECT(\"1:17\")),1)*2^(18-ROW(INDIRECT(\"1:17\")))),11)+1,1)=MID(#REF!,18,18),\"正确\",\"错误\")))","v":{"$error":"#REF!"}},{"$f":"VLOOKUP(#REF!,[1]特困人员供养对象列表!$B$3:$B$4002,1,0)","v":{"$error":"#REF!"}},{"$f":"VLOOKUP(#REF!,[2]发放明细!$B$3:$B$16220,1,0)","v":{"$error":"#REF!"}},{"$f":"VLOOKUP(#REF!,[2]低边!$B$3:$B$2764,1,0)","v":{"$error":"#REF!"}},{"$f":"VLOOKUP(#REF!,'[3]监测人口（991人2326人）'!$J$4:$AB$2329,19,0)","v":{"$error":"#REF!"}},{"$f":"VLOOKUP(#REF!,'[3]脱贫、监测人口户信息（8369户25151人）'!$J$2:$J$25052,1,0)","v":{"$error":"#REF!"}},{"$f":"VLOOKUP(#REF!,'[4]2011-2024危改名单'!$D$2:$D$10685,1,0)","v":{"$error":"#REF!"}}]
[68,"吴集镇 ","龙源村18组","罗功仁","男",1,"4304241965****251X","低保户","无房","新建",{"$f":"VLOOKUP(#REF!,[5]Sheet0!$F$2:$F$72,1,0)","v":{"$error":"#REF!"}},{"$f":"IF(#REF!=\"\",\"\",(IF(MID(\"10X98765432\",MOD(SUMPRODUCT(MID(#REF!,ROW(INDIRECT(\"1:17\")),1)*2^(18-ROW(INDIRECT(\"1:17\")))),11)+1,1)=MID(#REF!,18,18),\"正确\",\"错误\")))","v":{"$error":"#REF!"}},{"$f":"VLOOKUP(#REF!,[1]特困人员供养对象列表!$B$3:$B$4002,1,0)","v":{"$error":"#REF!"}},{"$f":"VLOOKUP(#REF!,[2]发放明细!$B$3:$B$16220,1,0)","v":{"$error":"#REF!"}},{"$f":"VLOOKUP(#REF!,[2]低边!$B$3:$B$2764,1,0)","v":{"$error":"#REF!"}},{"$f":"VLOOKUP(#REF!,'[3]监测人口（991人2326人）'!$J$4:$AB$2329,19,0)","v":{"$error":"#REF!"}},{"$f":"VLOOKUP(#REF!,'[3]脱贫、监测人口户信息（8369户25151人）'!$J$2:$J$25052,1,0)","v":{"$error":"#REF!"}},{"$f":"VLOOKUP(#REF!,'[4]2011-2024危改名单'!$D$2:$D$10685,1,0)","v":{"$error":"#REF!"}}]
[69,"吴集镇 ","龙奉村20组","曹怀芽","男",4,"4304241953****7218","低保户","无房","新建",{"$f":"VLOOKUP(#REF!,[5]Sheet0!$F$2:$F$72,1,0)","v":{"$error":"#REF!"}},{"$f":"IF(#REF!=\"\",\"\",(IF(MID(\"10X98765432\",MOD(SUMPRODUCT(MID(#REF!,ROW(INDIRECT(\"1:17\")),1)*2^(18-ROW(INDIRECT(\"1:17\")))),11)+1,1)=MID(#REF!,18,18),\"正确\",\"错误\")))","v":{"$error":"#REF!"}},{"$f":"VLOOKUP(#REF!,[1]特困人员供养对象列表!$B$3:$B$4002,1,0)","v":{"$error":"#REF!"}},{"$f":"VLOOKUP(#REF!,[2]发放明细!$B$3:$B$16220,1,0)","v":{"$error":"#REF!"}},{"$f":"VLOOKUP(#REF!,[2]低边!$B$3:$B$2764,1,0)","v":{"$error":"#REF!"}},{"$f":"VLOOKUP(#REF!,'[3]监测人口（991人2326人）'!$J$4:$AB$2329,19,0)","v":{"$error":"#REF!"}},{"$f":"VLOOKUP(#REF!,'[3]脱贫、监测人口户信息（8369户25151人）'!$J$2:$J$25052,1,0)","v":{"$error":"#REF!"}},{"$f":"VLOOKUP(#REF!,'[4]2011-2024危改名单'!$D$2:$D$10685,1,0)","v":{"$error":"#REF!"}}]
[70,"吴集镇 ","周田村13组","杨年生","男",1,"4304241968****8819","低保户","无房","新建",{"$f":"VLOOKUP(#REF!,[5]Sheet0!$F$2:$F$72,1,0)","v":{"$error":"#REF!"}},{"$f":"IF(#REF!=\"\",\"\",(IF(MID(\"10X98765432\",MOD(SUMPRODUCT(MID(#REF!,ROW(INDIRECT(\"1:17\")),1)*2^(18-ROW(INDIRECT(\"1:17\")))),11)+1,1)=MID(#REF!,18,18),\"正确\",\"错误\")))","v":{"$error":"#REF!"}},{"$f":"VLOOKUP(#REF!,[1]特困人员供养对象列表!$B$3:$B$4002,1,0)","v":{"$error":"#REF!"}},{"$f":"VLOOKUP(#REF!,[2]发放明细!$B$3:$B$16220,1,0)","v":{"$error":"#REF!"}},{"$f":"VLOOKUP(#REF!,[2]低边!$B$3:$B$2764,1,0)","v":{"$error":"#REF!"}},{"$f":"VLOOKUP(#REF!,'[3]监测人口（991人2326人）'!$J$4:$AB$2329,19,0)","v":{"$error":"#REF!"}},{"$f":"VLOOKUP(#REF!,'[3]脱贫、监测人口户信息（8369户25151人）'!$J$2:$J$25052,1,0)","v":{"$error":"#REF!"}},{"$f":"VLOOKUP(#REF!,'[4]2011-2024危改名单'!$D$2:$D$10685,1,0)","v":{"$error":"#REF!"}}]
[71,"吴集镇 ","伴岭村9组","杨运林","男",1,"4304241970****8636","五保户","C级","修缮",{"$f":"VLOOKUP(#REF!,[5]Sheet0!$F$2:$F$72,1,0)","v":{"$error":"#REF!"}},{"$f":"IF(#REF!=\"\",\"\",(IF(MID(\"10X98765432\",MOD(SUMPRODUCT(MID(#REF!,ROW(INDIRECT(\"1:17\")),1)*2^(18-ROW(INDIRECT(\"1:17\")))),11)+1,1)=MID(#REF!,18,18),\"正确\",\"错误\")))","v":{"$error":"#REF!"}},{"$f":"VLOOKUP(#REF!,[1]特困人员供养对象列表!$B$3:$B$4002,1,0)","v":{"$error":"#REF!"}},{"$f":"VLOOKUP(#REF!,[2]发放明细!$B$3:$B$16220,1,0)","v":{"$error":"#REF!"}},{"$f":"VLOOKUP(#REF!,[2]低边!$B$3:$B$2764,1,0)","v":{"$error":"#REF!"}},{"$f":"VLOOKUP(#REF!,'[3]监测人口（991人2326人）'!$J$4:$AB$2329,19,0)","v":{"$error":"#REF!"}},{"$f":"VLOOKUP(#REF!,'[3]脱贫、监测人口户信息（8369户25151人）'!$J$2:$J$25052,1,0)","v":{"$error":"#REF!"}},{"$f":"VLOOKUP(#REF!,'[4]2011-2024危改名单'!$D$2:$D$10685,1,0)","v":{"$error":"#REF!"}}]